Workbook

Sheet Toelichting
A67: 100 | B67: 30
A68: 100 | B68: 30
A69: 100 | B69: 30
A70: 100 | B70: 30
A71: 100 | B71: 30
A72: 100 | B72: 30
A73: 100 | B73: 30
A74: 100 | B74: 30
A75: 100 | B75: 30
A76: 100 | B76: 30
A77: 100 | B77: 30
A78: 100 | B78: 30
... A170: 100 | B170: 30

Sheet Team -en bedrukkingsinformatie
J1: Naam | K1: Wit | L1: Zwart | M1: Meerkleuren
I2: Sponsor 1 | J2: Sponsor 1
I3: Sponsor 2 | J3: Sponsor 2
A4: Betalingconditie | I4: Sponsor 3 | J4: Sponsor 3
A5: Team:
A6: Naam: | I6: Bedrukking (1) | J6: Bedrukking (2) | K6: Aantal | L6: Prijs | M6: Totaal
A7: Tel: | I7: Clublogo | J7: S.V. Houten | L7: 1 | M7: =K7*L7 -> 0
A8: Mail: | I8: Sponsor 1 | J8: =J2 -> Sponsor 1 | L8: 8.25 | M8: =K8*L8 -> 0
A9: Adres: | I9: Sponsor 2 | J9: =J3 -> Sponsor 2 | L9: 8.25 | M9: =K9*L9 -> 0
A10: Postcode: | I10: Sponsor 3 | J10: =J4 -> Sponsor 3 | L10: 8.25 | M10: =K10*L10 -> 0
A11: Naam speler | D11: Nummer | F11: Initialen | I11: Nummer (klein) | J11: 5cm | L11: 2.75 | M11: =K11*L11 -> 0
I12: Nummer (groot) | J12: 20cm/25cm | L12: 5.5 | M12: =K12*L12 -> 0
I13: Initiaal | J13: 4cm | L13: 2.75 | M13: =K13*L13 -> 0
I14: Naam | J14: 5cm | L14: 5.5 | M14: =K14*L14 -> 0
I16: Totaal bedrukking (o.v.b.) | M16: =SUM(M7:M14) -> 0
I18: Totaal kleding | M18: =Wedstrijdtenue!I250+Trainingskleding!I197+Presentatiekleding!I152+'Hesjes & Tassen'!I50+#REF! -> #REF!
I20: Totaal bestelling (o.v.b.) | M20: =M16+M18 -> #REF!
I22: Totaal bestelling FG (o.v.b.) | M22: =M18/(100-Wedstrijdtenue!E4*100)*100+M16 -> #REF!

Sheet Wedstrijdtenue
A1: Bestellijst S.V. Houten
A3: Omschrijving | B3: Art. nummer | C3: Kleur | D3: Prijs | E3: Korting | F3: Stukprijs | G3: Maat | H3: Aantal | I3: Totaalprijs incl. btw | J3: Totaalprijs excl. btw | K3: Nummers | L3: Initialen/Namen | M3: ='Team -en bedrukkingsinformatie'!J2 -> Sponsor 1 | N3: ='Team -en bedrukkingsinformatie'!J3 -> Sponsor 2 | O3: ='Team -en bedrukkingsinformatie'!J4 -> Sponsor 3
D4: Nike | E4: 0.25 | F4: Voetbalshop
A5: Wedstrijdtenue(s) thuis | M5: Hanteer dropdown menu (pijl) hieronder voor het aangeven van de bedrukking locatie. De cijfers corresponderen met het bestand die toegevoegd is op de pagina Toelichtingen.
A8: Thuisshirt (junioren) (lange mouw) | B8: HV8239-463 | C8: Blauw | D8: 23 | E8: =D8*$E$4 -> 5.75 | F8: =D8-E8 -> 17.25 | G8: 122 | I8: =H8*F8 -> 0 | J8: =I8/1.21 -> 0
A9: Thuisshirt (junioren) (lange mouw) | B9: HV8239-463 | D9: 23 | E9: =D9*$E$4 -> 5.75 | F9: =D9-E9 -> 17.25 | G9: 128 | I9: =H9*F9 -> 0 | J9: =I9/1.21 -> 0
A10: Thuisshirt (junioren) (lange mouw) | B10: HV8239-463 | D10: 23 | E10: =D10*$E$4 -> 5.75 | F10: =D10-E10 -> 17.25 | G10: 140 | I10: =H10*F10 -> 0 | J10: =I10/1.21 -> 0
A11: Thuisshirt (junioren) (lange mouw) | B11: HV8239-463 | D11: 23 | E11: =D11*$E$4 -> 5.75 | F11: =D11-E11 -> 17.25 | G11: 152 | I11: =H11*F11 -> 0 | J11: =I11/1.21 -> 0
A12: Thuisshirt (junioren) (lange mouw) | B12: HV8239-463 | D12: 23 | E12: =D12*$E$4 -> 5.75 | F12: =D12-E12 -> 17.25 | G12: 164 | I12: =H12*F12 -> 0 | J12: =I12/1.21 -> 0
A13: Thuisshirt (senioren) (lange mouw) | B13: HV8232-463 | C13: Blauw | D13: 25 | E13: =D13*$E$4 -> 6.25 | F13: =D13-E13 -> 18.75 | G13: S | I13: =H13*F13 -> 0 | J13: =I13/1.21 -> 0
A14: Thuisshirt (senioren) (lange mouw) | B14: HV8232-463 | D14: 25 | E14: =D14*$E$4 -> 6.25 | F14: =D14-E14 -> 18.75 | G14: M | I14: =H14*F14 -> 0 | J14: =I14/1.21 -> 0
A15: Thuisshirt (senioren) (lange mouw) | B15: HV8232-463 | D15: 25 | E15: =D15*$E$4 -> 6.25 | F15: =D15-E15 -> 18.75 | G15: L | I15: =H15*F15 -> 0 | J15: =I15/1.21 -> 0
A16: Thuisshirt (senioren) (lange mouw) | B16: HV8232-463 | D16: 25 | E16: =D16*$E$4 -> 6.25 | F16: =D16-E16 -> 18.75 | G16: XL | I16: =H16*F16 -> 0 | J16: =I16/1.21 -> 0
A17: Thuisshirt (senioren) (lange mouw) | B17: HV8232-463 | D17: 25 | E17: =D17*$E$4 -> 6.25 | F17: =D17-E17 -> 18.75 | G17: XXL | I17: =H17*F17 -> 0 | J17: =I17/1.21 -> 0
A19: Thuisshirt (junioren) (korte mouw) | B19: HV8182-463 | C19: Blauw | D19: 18 | E19: =D19*$E$4 -> 4.5 | F19: =D19-E19 -> 13.5 | G19: 122 | I19: =H19*F19 -> 0 | J19: =I19/1.21 -> 0
A20: Thuisshirt (junioren) (korte mouw) | B20: HV8182-463 | D20: 18 | E20: =D20*$E$4 -> 4.5 | F20: =D20-E20 -> 13.5 | G20: 128 | I20: =H20*F20 -> 0 | J20: =I20/1.21 -> 0
A21: Thuisshirt (junioren) (korte mouw) | B21: HV8182-463 | D21: 18 | E21: =D21*$E$4 -> 4.5 | F21: =D21-E21 -> 13.5 | G21: 140 | I21: =H21*F21 -> 0 | J21: =I21/1.21 -> 0
A22: Thuisshirt (junioren) (korte mouw) | B22: HV8182-463 | D22: 18 | E22: =D22*$E$4 -> 4.5 | F22: =D22-E22 -> 13.5 | G22: 152 | I22: =H22*F22 -> 0 | J22: =I22/1.21 -> 0
A23: Thuisshirt (junioren) (korte mouw) | B23: HV8182-463 | D23: 18 | E23: =D23*$E$4 -> 4.5 | F23: =D23-E23 -> 13.5 | G23: 164 | I23: =H23*F23 -> 0 | J23: =I23/1.21 -> 0
A24: Thuisshirt (senioren) (korte mouw) | B24: HV8173-463 | C24: Blauw | D24: 20 | E24: =D24*$E$4 -> 5 | F24: =D24-E24 -> 15 | G24: S | I24: =H24*F24 -> 0 | J24: =I24/1.21 -> 0
A25: Thuisshirt (senioren) (korte mouw) | B25: HV8173-463 | D25: 20 | E25: =D25*$E$4 -> 5 | F25: =D25-E25 -> 15 | G25: M | I25: =H25*F25 -> 0 | J25: =I25/1.21 -> 0
A26: Thuisshirt (senioren) (korte mouw) | B26: HV8173-463 | D26: 20 | E26: =D26*$E$4 -> 5 | F26: =D26-E26 -> 15 | G26: L | I26: =H26*F26 -> 0 | J26: =I26/1.21 -> 0
A27: Thuisshirt (senioren) (korte mouw) | B27: HV8173-463 | D27: 20 | E27: =D27*$E$4 -> 5 | F27: =D27-E27 -> 15 | G27: XL | I27: =H27*F27 -> 0 | J27: =I27/1.21 -> 0
A28: Thuisshirt (senioren) (korte mouw) | B28: HV8173-463 | D28: 20 | E28: =D28*$E$4 -> 5 | F28: =D28-E28 -> 15 | G28: XXL | I28: =H28*F28 -> 0 | J28: =I28/1.21 -> 0
A30: Thuisshirt (vrouwen) (korte mouw) | B30: HV8178-463 | C30: Blauw | D30: 20 | E30: =D30*$E$4 -> 5 | F30: =D30-E30 -> 15 | G30: XS | I30: =H30*F30 -> 0 | J30: =I30/1.21 -> 0
A31: Thuisshirt (vrouwen) (korte mouw) | B31: HV8178-463 | D31: 20 | E31: =D31*$E$4 -> 5 | F31: =D31-E31 -> 15 | G31: S | I31: =H31*F31 -> 0 | J31: =I31/1.21 -> 0
A32: Thuisshirt (vrouwen) (korte mouw) | B32: HV8178-463 | D32: 20 | E32: =D32*$E$4 -> 5 | F32: =D32-E32 -> 15 | G32: M | I32: =H32*F32 -> 0 | J32: =I32/1.21 -> 0
A33: Thuisshirt (vrouwen) (korte mouw) | B33: HV8178-463 | D33: 20 | E33: =D33*$E$4 -> 5 | F33: =D33-E33 -> 15 | G33: L | I33: =H33*F33 -> 0 | J33: =I33/1.21 -> 0
A34: Thuisshirt (vrouwen) (korte mouw) | B34: HV8178-463 | D34: 20 | E34: =D34*$E$4 -> 5 | F34: =D34-E34 -> 15 | G34: XL | I34: =H34*F34 -> 0 | J34: =I34/1.21 -> 0
A36: Thuisshort (junioren) | B36: BV6865-100 | C36: Wit | D36: 15 | E36: =D36*$E$4 -> 3.75 | F36: =D36-E36 -> 11.25 | G36: 122 | I36: =H36*F36 -> 0 | J36: =I36/1.21 -> 0
A37: Thuisshort (junioren) | B37: BV6865-100 | D37: 15 | E37: =D37*$E$4 -> 3.75 | F37: =D37-E37 -> 11.25 | G37: 128 | I37: =H37*F37 -> 0 | J37: =I37/1.21 -> 0
A38: Thuisshort (junioren) | B38: BV6865-100 | D38: 15 | E38: =D38*$E$4 -> 3.75 | F38: =D38-E38 -> 11.25 | G38: 140 | I38: =H38*F38 -> 0 | J38: =I38/1.21 -> 0
A39: Thuisshort (junioren) | B39: BV6865-100 | D39: 15 | E39: =D39*$E$4 -> 3.75 | F39: =D39-E39 -> 11.25 | G39: 152 | I39: =H39*F39 -> 0 | J39: =I39/1.21 -> 0
A40: Thuisshort (junioren) | B40: BV6865-100 | D40: 15 | E40: =D40*$E$4 -> 3.75 | F40: =D40-E40 -> 11.25 | G40: 164 | I40: =H40*F40 -> 0 | J40: =I40/1.21 -> 0
A41: Thuisshort (senioren) | B41: BV6855-100 | C41: Wit | D41: 18 | E41: =D41*$E$4 -> 4.5 | F41: =D41-E41 -> 13.5 | G41: S | I41: =H41*F41 -> 0 | J41: =I41/1.21 -> 0
A42: Thuisshort (senioren) | B42: BV6855-100 | D42: 18 | E42: =D42*$E$4 -> 4.5 | F42: =D42-E42 -> 13.5 | G42: M | I42: =H42*F42 -> 0 | J42: =I42/1.21 -> 0
A43: Thuisshort (senioren) | B43: BV6855-100 | D43: 18 | E43: =D43*$E$4 -> 4.5 | F43: =D43-E43 -> 13.5 | G43: L | I43: =H43*F43 -> 0 | J43: =I43/1.21 -> 0
A44: Thuisshort (senioren) | B44: BV6855-100 | D44: 18 | E44: =D44*$E$4 -> 4.5 | F44: =D44-E44 -> 13.5 | G44: XL | I44: =H44*F44 -> 0 | J44: =I44/1.21 -> 0
A45: Thuisshort (senioren) | B45: BV6855-100 | D45: 18 | E45: =D45*$E$4 -> 4.5 | F45: =D45-E45 -> 13.5 | G45: XXL | I45: =H45*F45 -> 0 | J45: =I45/1.21 -> 0
A47: Thuisshort (vrouwen) | B47: BV6860-100 | C47: Wit | D47: 18 | E47: =D47*$E$4 -> 4.5 | F47: =D47-E47 -> 13.5 | G47: XS | I47: =H47*F47 -> 0 | J47: =I47/1.21 -> 0
...

Sheet Trainingskleding
A1: =Wedstrijdtenue!A1 -> Bestellijst S.V. Houten
A3: Omschrijving | B3: Art. nummer | C3: Kleur | D3: Prijs | E3: Korting | F3: Stukprijs | G3: Maat | H3: Aantal | I3: Totaalprijs incl. btw | J3: Totaalprijs excl. btw | K3: Nummers | L3: Initialen/Namen | M3: ='Team -en bedrukkingsinformatie'!J2 -> Sponsor 1 | N3: ='Team -en bedrukkingsinformatie'!J3 -> Sponsor 2 | O3: ='Team -en bedrukkingsinformatie'!J4 -> Sponsor 3
D4: Nike | E4: =Wedstrijdtenue!E4 -> 0.25 | F4: Voetbalshop
A5: Trainingstenue(s) junioren & senioren | M5: Hanteer dropdown menu (pijl) hieronder voor het aangeven van de bedrukking locatie. De cijfers corresponderen met het bestand die toegevoegd is op de pagina Toelichtingen.
A8: Trainingsjack (junioren) | B8: FZ9836-463 | C8: Blauw | D8: 43 | E8: =D8*$E$4 -> 10.75 | F8: =D8-E8 -> 32.25 | G8: 122 | I8: =H8*F8 -> 0 | J8: =I8/1.21 -> 0
A9: Trainingsjack (junioren) | B9: FZ9836-463 | D9: 43 | E9: =D9*$E$4 -> 10.75 | F9: =D9-E9 -> 32.25 | G9: 128 | I9: =H9*F9 -> 0 | J9: =I9/1.21 -> 0
A10: Trainingsjack (junioren) | B10: FZ9836-463 | D10: 43 | E10: =D10*$E$4 -> 10.75 | F10: =D10-E10 -> 32.25 | G10: 140 | I10: =H10*F10 -> 0 | J10: =I10/1.21 -> 0
A11: Trainingsjack (junioren) | B11: FZ9836-463 | D11: 43 | E11: =D11*$E$4 -> 10.75 | F11: =D11-E11 -> 32.25 | G11: 152 | I11: =H11*F11 -> 0 | J11: =I11/1.21 -> 0
A12: Trainingsjack (junioren) | B12: FZ9836-463 | D12: 43 | E12: =D12*$E$4 -> 10.75 | F12: =D12-E12 -> 32.25 | G12: 164 | I12: =H12*F12 -> 0 | J12: =I12/1.21 -> 0
A13: Trainingsjack (senioren) | B13: FZ9824-463 | C13: Blauw | D13: 45 | E13: =D13*$E$4 -> 11.25 | F13: =D13-E13 -> 33.75 | G13: XS | I13: =H13*F13 -> 0 | J13: =I13/1.21 -> 0
A14: Trainingsjack (senioren) | B14: FZ9824-463 | D14: 45 | E14: =D14*$E$4 -> 11.25 | F14: =D14-E14 -> 33.75 | G14: S | I14: =H14*F14 -> 0 | J14: =I14/1.21 -> 0
A15: Trainingsjack (senioren) | B15: FZ9824-463 | D15: 45 | E15: =D15*$E$4 -> 11.25 | F15: =D15-E15 -> 33.75 | G15: M | I15: =H15*F15 -> 0 | J15: =I15/1.21 -> 0
A16: Trainingsjack (senioren) | B16: FZ9824-463 | D16: 45 | E16: =D16*$E$4 -> 11.25 | F16: =D16-E16 -> 33.75 | G16: L | I16: =H16*F16 -> 0 | J16: =I16/1.21 -> 0
A17: Trainingsjack (senioren) | B17: FZ9824-463 | D17: 45 | E17: =D17*$E$4 -> 11.25 | F17: =D17-E17 -> 33.75 | G17: XL | I17: =H17*F17 -> 0 | J17: =I17/1.21 -> 0
A18: Trainingsjack (senioren) | B18: FZ9824-463 | D18: 45 | E18: =D18*$E$4 -> 11.25 | F18: =D18-E18 -> 33.75 | G18: XXL | I18: =H18*F18 -> 0 | J18: =I18/1.21 -> 0
A19: Trainingsjack (senioren) | B19: FZ9824-463 | D19: 45 | E19: =D19*$E$4 -> 11.25 | F19: =D19-E19 -> 33.75 | G19: XXXL | I19: =H19*F19 -> 0 | J19: =I19/1.21 -> 0
A21: Trainingstrui (junioren) | B21: FZ9773-463 | C21: Blauw | D21: 40 | E21: =D21*$E$4 -> 10 | F21: =D21-E21 -> 30 | G21: 122 | I21: =H21*F21 -> 0 | J21: =I21/1.21 -> 0
A22: Trainingstrui (junioren) | B22: FZ9773-463 | D22: 40 | E22: =D22*$E$4 -> 10 | F22: =D22-E22 -> 30 | G22: 128 | I22: =H22*F22 -> 0 | J22: =I22/1.21 -> 0
A23: Trainingstrui (junioren) | B23: FZ9773-463 | D23: 40 | E23: =D23*$E$4 -> 10 | F23: =D23-E23 -> 30 | G23: 140 | I23: =H23*F23 -> 0 | J23: =I23/1.21 -> 0
A24: Trainingstrui (junioren) | B24: FZ9773-463 | D24: 40 | E24: =D24*$E$4 -> 10 | F24: =D24-E24 -> 30 | G24: 152 | I24: =H24*F24 -> 0 | J24: =I24/1.21 -> 0
A25: Trainingstrui (junioren) | B25: FZ9773-463 | D25: 40 | E25: =D25*$E$4 -> 10 | F25: =D25-E25 -> 30 | G25: 164 | I25: =H25*F25 -> 0 | J25: =I25/1.21 -> 0
A26: Trainingstrui (senioren) | B26: FZ9773-463 | C26: Blauw | D26: 45 | E26: =D26*$E$4 -> 11.25 | F26: =D26-E26 -> 33.75 | G26: XS | I26: =H26*F26 -> 0 | J26: =I26/1.21 -> 0
A27: Trainingstrui (senioren) | B27: FZ9767-463 | D27: 45 | E27: =D27*$E$4 -> 11.25 | F27: =D27-E27 -> 33.75 | G27: S | I27: =H27*F27 -> 0 | J27: =I27/1.21 -> 0
A28: Trainingstrui (senioren) | B28: FZ9767-463 | D28: 45 | E28: =D28*$E$4 -> 11.25 | F28: =D28-E28 -> 33.75 | G28: M | I28: =H28*F28 -> 0 | J28: =I28/1.21 -> 0
A29: Trainingstrui (senioren) | B29: FZ9767-463 | D29: 45 | E29: =D29*$E$4 -> 11.25 | F29: =D29-E29 -> 33.75 | G29: L | I29: =H29*F29 -> 0 | J29: =I29/1.21 -> 0
A30: Trainingstrui (senioren) | B30: FZ9767-463 | D30: 45 | E30: =D30*$E$4 -> 11.25 | F30: =D30-E30 -> 33.75 | G30: XL | I30: =H30*F30 -> 0 | J30: =I30/1.21 -> 0
A31: Trainingstrui (senioren) | B31: FZ9767-463 | D31: 45 | E31: =D31*$E$4 -> 11.25 | F31: =D31-E31 -> 33.75 | G31: XXL | I31: =H31*F31 -> 0 | J31: =I31/1.21 -> 0
A32: Trainingstrui (senioren) | B32: FZ9767-463 | D32: 45 | E32: =D32*$E$4 -> 11.25 | F32: =D32-E32 -> 33.75 | G32: XXXL | I32: =H32*F32 -> 0 | J32: =I32/1.21 -> 0
A34: Trainingsbroek (junioren) | B34: FZ9816-410 | C34: Donkerblauw | D34: 40 | E34: =D34*$E$4 -> 10 | F34: =D34-E34 -> 30 | G34: 122 | I34: =H34*F34 -> 0 | J34: =I34/1.21 -> 0
A35: Trainingsbroek (junioren) | B35: FZ9816-410 | D35: 40 | E35: =D35*$E$4 -> 10 | F35: =D35-E35 -> 30 | G35: 128 | I35: =H35*F35 -> 0 | J35: =I35/1.21 -> 0
A36: Trainingsbroek (junioren) | B36: FZ9816-410 | D36: 40 | E36: =D36*$E$4 -> 10 | F36: =D36-E36 -> 30 | G36: 140 | I36: =H36*F36 -> 0 | J36: =I36/1.21 -> 0
A37: Trainingsbroek (junioren) | B37: FZ9816-410 | D37: 40 | E37: =D37*$E$4 -> 10 | F37: =D37-E37 -> 30 | G37: 152 | I37: =H37*F37 -> 0 | J37: =I37/1.21 -> 0
A38: Trainingsbroek (junioren) | B38: FZ9816-410 | D38: 40 | E38: =D38*$E$4 -> 10 | F38: =D38-E38 -> 30 | G38: 164 | I38: =H38*F38 -> 0 | J38: =I38/1.21 -> 0
A39: Trainingsbroek (senioren) | B39: FZ9805-410 | C39: Donkerblauw | D39: 45 | E39: =D39*$E$4 -> 11.25 | F39: =D39-E39 -> 33.75 | G39: XS | I39: =H39*F39 -> 0 | J39: =I39/1.21 -> 0
A40: Trainingsbroek (senioren) | B40: FZ9805-410 | D40: 45 | E40: =D40*$E$4 -> 11.25 | F40: =D40-E40 -> 33.75 | G40: S | I40: =H40*F40 -> 0 | J40: =I40/1.21 -> 0
A41: Trainingsbroek (senioren) | B41: FZ9805-410 | D41: 45 | E41: =D41*$E$4 -> 11.25 | F41: =D41-E41 -> 33.75 | G41: M | I41: =H41*F41 -> 0 | J41: =I41/1.21 -> 0
A42: Trainingsbroek (senioren) | B42: FZ9805-410 | D42: 45 | E42: =D42*$E$4 -> 11.25 | F42: =D42-E42 -> 33.75 | G42: L | I42: =H42*F42 -> 0 | J42: =I42/1.21 -> 0
A43: Trainingsbroek (senioren) | B43: FZ9805-410 | D43: 45 | E43: =D43*$E$4 -> 11.25 | F43: =D43-E43 -> 33.75 | G43: XL | I43: =H43*F43 -> 0 | J43: =I43/1.21 -> 0
A44: Trainingsbroek (senioren) | B44: FZ9805-410 | D44: 45 | E44: =D44*$E$4 -> 11.25 | F44: =D44-E44 -> 33.75 | G44: XXL | I44: =H44*F44 -> 0 | J44: =I44/1.21 -> 0
A45: Trainingsbroek (senioren) | B45: FZ9805-410 | D45: 45 | E45: =D45*$E$4 -> 11.25 | F45: =D45-E45 -> 33.75 | G45: XXXL | I45: =H45*F45 -> 0 | J45: =I45/1.21 -> 0
...

Sheet Presentatiekleding
A1: =Wedstrijdtenue!A1 -> Bestellijst S.V. Houten
A3: Omschrijving | B3: Art. nummer | C3: Kleur | D3: Prijs | E3: Korting | F3: Stukprijs | G3: Maat | H3: Aantal | I3: Totaalprijs incl. btw | J3: Totaalprijs excl. btw | K3: Nummers | L3: Initialen/Namen | M3: ='Team -en bedrukkingsinformatie'!J2 -> Sponsor 1 | N3: ='Team -en bedrukkingsinformatie'!J3 -> Sponsor 2 | O3: ='Team -en bedrukkingsinformatie'!J4 -> Sponsor 3
D4: Nike | E4: =Wedstrijdtenue!E4 -> 0.25 | F4: Voetbalshop
A5: Presentatiekleding spelers | M5: Hanteer dropdown menu (pijl) hieronder voor het aangeven van de bedrukking locatie. De cijfers corresponderen met het bestand die toegevoegd is op de pagina Toelichtingen.
A8: Polo (junioren) | B8: FZ9763-463 | C8: Blauw | D8: 38 | E8: =D8*$E$4 -> 9.5 | F8: =D8-E8 -> 28.5 | G8: 122 | I8: =H8*F8 -> 0 | J8: =I8/1.21 -> 0
A9: Polo (junioren) | B9: FZ9763-463 | D9: 38 | E9: =D9*$E$4 -> 9.5 | F9: =D9-E9 -> 28.5 | G9: 128 | I9: =H9*F9 -> 0 | J9: =I9/1.21 -> 0
A10: Polo (junioren) | B10: FZ9763-463 | D10: 38 | E10: =D10*$E$4 -> 9.5 | F10: =D10-E10 -> 28.5 | G10: 140 | I10: =H10*F10 -> 0 | J10: =I10/1.21 -> 0
A11: Polo (junioren) | B11: FZ9763-463 | D11: 38 | E11: =D11*$E$4 -> 9.5 | F11: =D11-E11 -> 28.5 | G11: 152 | I11: =H11*F11 -> 0 | J11: =I11/1.21 -> 0
A12: Polo (junioren) | B12: FZ9763-463 | D12: 38 | E12: =D12*$E$4 -> 9.5 | F12: =D12-E12 -> 28.5 | G12: 164 | I12: =H12*F12 -> 0 | J12: =I12/1.21 -> 0
A13: Polo (senioren) | B13: FZ9759-463 | C13: Blauw | D13: 43 | E13: =D13*$E$4 -> 10.75 | F13: =D13-E13 -> 32.25 | G13: XS | I13: =H13*F13 -> 0 | J13: =I13/1.21 -> 0
A14: Polo (senioren) | B14: FZ9759-463 | D14: 43 | E14: =D14*$E$4 -> 10.75 | F14: =D14-E14 -> 32.25 | G14: S | I14: =H14*F14 -> 0 | J14: =I14/1.21 -> 0
A15: Polo (senioren) | B15: FZ9759-463 | D15: 43 | E15: =D15*$E$4 -> 10.75 | F15: =D15-E15 -> 32.25 | G15: M | I15: =H15*F15 -> 0 | J15: =I15/1.21 -> 0
A16: Polo (senioren) | B16: FZ9759-463 | D16: 43 | E16: =D16*$E$4 -> 10.75 | F16: =D16-E16 -> 32.25 | G16: L | I16: =H16*F16 -> 0 | J16: =I16/1.21 -> 0
A17: Polo (senioren) | B17: FZ9759-463 | D17: 43 | E17: =D17*$E$4 -> 10.75 | F17: =D17-E17 -> 32.25 | G17: XL | I17: =H17*F17 -> 0 | J17: =I17/1.21 -> 0
A18: Polo (senioren) | B18: FZ9759-463 | D18: 43 | E18: =D18*$E$4 -> 10.75 | F18: =D18-E18 -> 32.25 | G18: XXL | I18: =H18*F18 -> 0 | J18: =I18/1.21 -> 0
A19: Polo (senioren) | B19: FZ9759-463 | D19: 43 | E19: =D19*$E$4 -> 10.75 | F19: =D19-E19 -> 32.25 | G19: XXXL | I19: =H19*F19 -> 0 | J19: =I19/1.21 -> 0
A21: Polo (vrouwen) | B21: FZ9761-463 | C21: Blauw | D21: 43 | E21: =D21*$E$4 -> 10.75 | F21: =D21-E21 -> 32.25 | G21: XS | I21: =H21*F21 -> 0 | J21: =I21/1.21 -> 0
A22: Polo (vrouwen) | B22: FZ9761-463 | D22: 43 | E22: =D22*$E$4 -> 10.75 | F22: =D22-E22 -> 32.25 | G22: S | I22: =H22*F22 -> 0 | J22: =I22/1.21 -> 0
A23: Polo (vrouwen) | B23: FZ9761-463 | D23: 43 | E23: =D23*$E$4 -> 10.75 | F23: =D23-E23 -> 32.25 | G23: M | I23: =H23*F23 -> 0 | J23: =I23/1.21 -> 0
A24: Polo (vrouwen) | B24: FZ9761-463 | D24: 43 | E24: =D24*$E$4 -> 10.75 | F24: =D24-E24 -> 32.25 | G24: L | I24: =H24*F24 -> 0 | J24: =I24/1.21 -> 0
A25: Polo (vrouwen) | B25: FZ9761-463 | D25: 43 | E25: =D25*$E$4 -> 10.75 | F25: =D25-E25 -> 32.25 | G25: XL | I25: =H25*F25 -> 0 | J25: =I25/1.21 -> 0
A27: Citytee (junioren) | B27: CW6941-451 | C27: Blauw | D27: 32 | E27: =D27*$E$4 -> 8 | F27: =D27-E27 -> 24 | G27: 122 | I27: =H27*F27 -> 0 | J27: =I27/1.21 -> 0
A28: Citytee (junioren) | B28: CW6941-451 | D28: 32 | E28: =D28*$E$4 -> 8 | F28: =D28-E28 -> 24 | G28: 128 | I28: =H28*F28 -> 0 | J28: =I28/1.21 -> 0
A29: Citytee (junioren) | B29: CW6941-451 | D29: 32 | E29: =D29*$E$4 -> 8 | F29: =D29-E29 -> 24 | G29: 140 | I29: =H29*F29 -> 0 | J29: =I29/1.21 -> 0
A30: Citytee (junioren) | B30: CW6941-451 | D30: 32 | E30: =D30*$E$4 -> 8 | F30: =D30-E30 -> 24 | G30: 152 | I30: =H30*F30 -> 0 | J30: =I30/1.21 -> 0
A31: Citytee (junioren) | B31: CW6941-451 | D31: 32 | E31: =D31*$E$4 -> 8 | F31: =D31-E31 -> 24 | G31: 164 | I31: =H31*F31 -> 0 | J31: =I31/1.21 -> 0
A32: Citytee (senioren) | B32: CW6936-451 | D32: 40 | E32: =D32*$E$4 -> 10 | F32: =D32-E32 -> 30 | G32: S | I32: =H32*F32 -> 0 | J32: =I32/1.21 -> 0
A33: Citytee (senioren) | B33: CW6936-451 | D33: 40 | E33: =D33*$E$4 -> 10 | F33: =D33-E33 -> 30 | G33: M | I33: =H33*F33 -> 0 | J33: =I33/1.21 -> 0
A34: Citytee (senioren) | B34: CW6936-451 | D34: 40 | E34: =D34*$E$4 -> 10 | F34: =D34-E34 -> 30 | G34: L | I34: =H34*F34 -> 0 | J34: =I34/1.21 -> 0
A35: Citytee (senioren) | B35: CW6936-451 | D35: 40 | E35: =D35*$E$4 -> 10 | F35: =D35-E35 -> 30 | G35: XL | I35: =H35*F35 -> 0 | J35: =I35/1.21 -> 0
A36: Citytee (senioren) | B36: CW6936-451 | D36: 40 | E36: =D36*$E$4 -> 10 | F36: =D36-E36 -> 30 | G36: XXL | I36: =H36*F36 -> 0 | J36: =I36/1.21 -> 0
A37: Citytee (senioren) | B37: CW6936-451 | D37: 40 | E37: =D37*$E$4 -> 10 | F37: =D37-E37 -> 30 | G37: XXXL | I37: =H37*F37 -> 0 | J37: =I37/1.21 -> 0
A39: Citytee (vrouwen) | B39: CW6967-451 | C39: Blauw | D39: 40 | E39: =D39*$E$4 -> 10 | F39: =D39-E39 -> 30 | G39: XS | I39: =H39*F39 -> 0 | J39: =I39/1.21 -> 0
A40: Citytee (vrouwen) | B40: CW6957-451 | D40: 40 | E40: =D40*$E$4 -> 10 | F40: =D40-E40 -> 30 | G40: S | I40: =H40*F40 -> 0 | J40: =I40/1.21 -> 0
A41: Citytee (vrouwen) | B41: CW6957-451 | D41: 40 | E41: =D41*$E$4 -> 10 | F41: =D41-E41 -> 30 | G41: M | I41: =H41*F41 -> 0 | J41: =I41/1.21 -> 0
A42: Citytee (vrouwen) | B42: CW6957-451 | D42: 40 | E42: =D42*$E$4 -> 10 | F42: =D42-E42 -> 30 | G42: L | I42: =H42*F42 -> 0 | J42: =I42/1.21 -> 0
A43: Citytee (vrouwen) | B43: CW6957-451 | D43: 40 | E43: =D43*$E$4 -> 10 | F43: =D43-E43 -> 30 | G43: XL | I43: =H43*F43 -> 0 | J43: =I43/1.21 -> 0
A45: Hoodie (junioren) | B45: IB1226-410 | C45: Blauw | D45: 55 | E45: =D45*$E$4 -> 13.75 | F45: =D45-E45 -> 41.25 | G45: 122 | I45: =H45*F45 -> 0 | J45: =I45/1.21 -> 0
A46: Hoodie (junioren) | B46: IB1226-410 | D46: 55 | E46: =D46*$E$4 -> 13.75 | F46: =D46-E46 -> 41.25 | G46: 128 | I46: =H46*F46 -> 0 | J46: =I46/1.21 -> 0
A47: Hoodie (junioren) | B47: IB1226-410 | D47: 55 | E47: =D47*$E$4 -> 13.75 | F47: =D47-E47 -> 41.25 | G47: 140 | I47: =H47*F47 -> 0 | J47: =I47/1.21 -> 0
...

Sheet Hesjes & Tassen
A1: =Wedstrijdtenue!A1 -> Bestellijst S.V. Houten
A3: Omschrijving | B3: Art. nummer | C3: Kleur | D3: Prijs | E3: Korting | F3: Stukprijs | G3: Maat | H3: Aantal | I3: Totaalprijs incl. btw | J3: Totaalprijs excl. btw | K3: Nummers | L3: Initialen/Namen | M3: ='Team -en bedrukkingsinformatie'!J2 -> Sponsor 1 | N3: ='Team -en bedrukkingsinformatie'!J3 -> Sponsor 2 | O3: ='Team -en bedrukkingsinformatie'!J4 -> Sponsor 3
D4: Nike | E4: =Wedstrijdtenue!E4 -> 0.25 | F4: Voetbalshop
A5: Hesjes | M5: Hanteer dropdown menu (pijl) hieronder voor het aangeven van de bedrukking locatie. De cijfers corresponderen met het bestand die toegevoegd is op de pagina Toelichtingen.
A8: Hesjes (unisex) | B8: HV8429-100 | C8: Wit | D8: 10 | E8: =D8*$E$4 -> 2.5 | F8: =D8-E8 -> 7.5 | G8: S | I8: =H8*F8 -> 0 | J8: =I8/1.21 -> 0
A9: Hesjes (unisex) | B9: HV8429-100 | D9: 10 | E9: =D9*$E$4 -> 2.5 | F9: =D9-E9 -> 7.5 | G9: L | I9: =H9*F9 -> 0 | J9: =I9/1.21 -> 0
A10: Hesjes (unisex) | B10: HV8429-100 | D10: 10 | E10: =D10*$E$4 -> 2.5 | F10: =D10-E10 -> 7.5 | G10: XXL | I10: =H10*F10 -> 0 | J10: =I10/1.21 -> 0
A12: Hesjes (unisex) | B12: HV8429-313 | C12: Groen | D12: 10 | E12: =D12*$E$4 -> 2.5 | F12: =D12-E12 -> 7.5 | G12: S | I12: =H12*F12 -> 0 | J12: =I12/1.21 -> 0
A13: Hesjes (unisex) | B13: HV8429-313 | D13: 10 | E13: =D13*$E$4 -> 2.5 | F13: =D13-E13 -> 7.5 | G13: L | I13: =H13*F13 -> 0 | J13: =I13/1.21 -> 0
A14: Hesjes (unisex) | B14: HV8429-313 | D14: 10 | E14: =D14*$E$4 -> 2.5 | F14: =D14-E14 -> 7.5 | G14: XXL | I14: =H14*F14 -> 0 | J14: =I14/1.21 -> 0
A16: Hesjes (unisex) | B16: HV8429-406 | C16: Blauw | D16: 10 | E16: =D16*$E$4 -> 2.5 | F16: =D16-E16 -> 7.5 | G16: S | I16: =H16*F16 -> 0 | J16: =I16/1.21 -> 0
A17: Hesjes (unisex) | B17: HV8429-406 | D17: 10 | E17: =D17*$E$4 -> 2.5 | F17: =D17-E17 -> 7.5 | G17: L | I17: =H17*F17 -> 0 | J17: =I17/1.21 -> 0
A18: Hesjes (unisex) | B18: HV8429-406 | D18: 10 | E18: =D18*$E$4 -> 2.5 | F18: =D18-E18 -> 7.5 | G18: XXL | I18: =H18*F18 -> 0 | J18: =I18/1.21 -> 0
A20: Hesjes (unisex) | B20: HV8429-616 | C20: Roze | D20: 10 | E20: =D20*$E$4 -> 2.5 | F20: =D20-E20 -> 7.5 | G20: S | I20: =H20*F20 -> 0 | J20: =I20/1.21 -> 0
A21: Hesjes (unisex) | B21: HV8429-616 | D21: 10 | E21: =D21*$E$4 -> 2.5 | F21: =D21-E21 -> 7.5 | G21: L | I21: =H21*F21 -> 0 | J21: =I21/1.21 -> 0
A22: Hesjes (unisex) | B22: HV8429-616 | D22: 10 | E22: =D22*$E$4 -> 2.5 | F22: =D22-E22 -> 7.5 | G22: XXL | I22: =H22*F22 -> 0 | J22: =I22/1.21 -> 0
A24: Hesjes (unisex) | B24: HV8429-702 | C24: Geel | D24: 10 | E24: =D24*$E$4 -> 2.5 | F24: =D24-E24 -> 7.5 | G24: S | I24: =H24*F24 -> 0 | J24: =I24/1.21 -> 0
A25: Hesjes (unisex) | B25: HV8429-702 | D25: 10 | E25: =D25*$E$4 -> 2.5 | F25: =D25-E25 -> 7.5 | G25: L | I25: =H25*F25 -> 0 | J25: =I25/1.21 -> 0
A26: Hesjes (unisex) | B26: HV8429-702 | D26: 10 | E26: =D26*$E$4 -> 2.5 | F26: =D26-E26 -> 7.5 | G26: XXL | I26: =H26*F26 -> 0 | J26: =I26/1.21 -> 0
A28: Tassen
A30: Waterzak | B30: 9025.010 | C30: Zwart | D30: 15 | E30: =D30*$E$4 -> 3.75 | F30: =D30-E30 -> 11.25 | G30: STUKS | I30: =H30*F30 -> 0 | J30: =I30/1.21 -> 0
A31: Ballenzak | B31: BA5200-010 | C31: Zwart | D31: 25 | E31: =D31*$E$4 -> 6.25 | F31: =D31-E31 -> 18.75 | G31: STUKS | I31: =H31*F31 -> 0 | J31: =I31/1.21 -> 0
A32: Voetbaltas Large | B32: CU8087-410 | C32: Donkerblauw | D32: 55 | E32: =D32*$E$4 -> 13.75 | F32: =D32-E32 -> 41.25 | G32: STUKS | I32: =H32*F32 -> 0 | J32: =I32/1.21 -> 0
A33: Voetbaltas Medium | B33: CU8096-410 | C33: Donkerblauw | D33: 48 | E33: =D33*$E$4 -> 12 | F33: =D33-E33 -> 36 | G33: STUKS | I33: =H33*F33 -> 0 | J33: =I33/1.21 -> 0
A34: Rollerbag | B34: BA5199-010 | C34: Zwart | D34: 65 | E34: =D34*$E$4 -> 16.25 | F34: =D34-E34 -> 48.75 | G34: STUKS | I34: =H34*F34 -> 0 | J34: =I34/1.21 -> 0
A35: Rugzak spelers | B35: DV0761-410 | C35: Donkerblauw | D35: 43 | E35: =D35*$E$4 -> 10.75 | F35: =D35-E35 -> 32.25 | G35: STUKS | I35: =H35*F35 -> 0 | J35: =I35/1.21 -> 0
A36: Rugzak trainers | B36: DV0761-011 | C36: Zwart | D36: 43 | E36: =D36*$E$4 -> 10.75 | F36: =D36-E36 -> 32.25 | G36: STUKS | I36: =H36*F36 -> 0 | J36: =I36/1.21 -> 0
A38: Accessoires
A40: Handschoenen kids | B40: HF0546-011 | C40: Zwart | D40: 20 | E40: =D40*$E$4 -> 5 | F40: =D40-E40 -> 15 | G40: S | I40: =H40*F40 -> 0 | J40: =I40/1.21 -> 0
A41: Handschoenen kids | D41: 20 | E41: =D41*$E$4 -> 5 | F41: =D41-E41 -> 15 | G41: M | I41: =H41*F41 -> 0 | J41: =I41/1.21 -> 0
A42: Handschoenen kids | D42: 20 | E42: =D42*$E$4 -> 5 | F42: =D42-E42 -> 15 | G42: L | I42: =H42*F42 -> 0 | J42: =I42/1.21 -> 0
A43: Handschoenen senior | B43: HF0547-011 | C43: Zwart | D43: 25 | E43: =D43*$E$4 -> 6.25 | F43: =D43-E43 -> 18.75 | G43: S | I43: =H43*F43 -> 0 | J43: =I43/1.21 -> 0
A44: Handschoenen senior | D44: 25 | E44: =D44*$E$4 -> 6.25 | F44: =D44-E44 -> 18.75 | G44: M | I44: =H44*F44 -> 0 | J44: =I44/1.21 -> 0
A45: Handschoenen senior | D45: 25 | E45: =D45*$E$4 -> 6.25 | F45: =D45-E45 -> 18.75 | G45: L | I45: =H45*F45 -> 0 | J45: =I45/1.21 -> 0
A46: Handschoenen senior | D46: 25 | E46: =D46*$E$4 -> 6.25 | F46: =D46-E46 -> 18.75 | G46: XL | I46: =H46*F46 -> 0 | J46: =I46/1.21 -> 0
A47: Muts spelers | B47: FQ8292-451 | C47: Unisex | D47: 25 | E47: =D47*$E$4 -> 6.25 | F47: =D47-E47 -> 18.75 | G47: STUKS | I47: =H47*F47 -> 0 | J47: =I47/1.21 -> 0
A48: Muts trainers | B48: FQ8292-010 | C48: Unisex | D48: 25 | E48: =D48*$E$4 -> 6.25 | F48: =D48-E48 -> 18.75 | G48: STUKS | I48: =H48*F48 -> 0 | J48: =I48/1.21 -> 0
H50: SUBTOTAAL | I50: =SUM(I8:I36) -> 0 | J50: =SUM(J5:J36) -> 0

Sheet Totaal
A1: Bestellijst S.V. Houten
A3: Omschrijving | B3: Art. nummer | C3: Kleur | D3: Prijs | E3: Korting | F3: Stukprijs | G3: Maat | H3: Aantal | I3: Totaalprijs incl. btw | J3: Totaalprijs excl. btw | K3: Nummers | L3: Initialen/Namen | M3: ='Team -en bedrukkingsinformatie'!J2 -> Sponsor 1 | N3: ='Team -en bedrukkingsinformatie'!J3 -> Sponsor 2 | O3: ='Team -en bedrukkingsinformatie'!J4 -> Sponsor 3
