Workbook

Sheet Toelichting
A67: 100 | B67: 30
A68: 100 | B68: 30
A69: 100 | B69: 30
A70: 100 | B70: 30
A71: 100 | B71: 30
A72: 100 | B72: 30
A73: 100 | B73: 30
A74: 100 | B74: 30
A75: 100 | B75: 30
A76: 100 | B76: 30
A77: 100 | B77: 30
A78: 100 | B78: 30
... A170: 100 | B170: 30

Sheet Team -en bedrukkingsinformatie
J1: Naam | K1: Wit | L1: Zwart | M1: Meerkleuren
I2: Sponsor 1 | J2: Sponsor 1
I3: Sponsor 2 | J3: Sponsor 2
A4: Betalingconditie | I4: Sponsor 3 | J4: Sponsor 3
A5: Team:
A6: Naam: | I6: Bedrukking (1) | J6: Bedrukking (2) | K6: Aantal | L6: Prijs | M6: Totaal
A7: Tel: | I7: Clublogo | J7: S.V. Houten | L7: 1 | M7: =K7*L7 -> 0
A8: Mail: | I8: Sponsor 1 | J8: =J2 -> Sponsor 1 | L8: 8.25 | M8: =K8*L8 -> 0
A9: Adres: | I9: Sponsor 2 | J9: =J3 -> Sponsor 2 | L9: 8.25 | M9: =K9*L9 -> 0
A10: Postcode: | I10: Sponsor 3 | J10: =J4 -> Sponsor 3 | L10: 8.25 | M10: =K10*L10 -> 0
A11: Naam speler | D11: Nummer | F11: Initialen | I11: Nummer (klein) | J11: 5cm | L11: 2.75 | M11: =K11*L11 -> 0
I12: Nummer (groot) | J12: 20cm/25cm | L12: 5.5 | M12: =K12*L12 -> 0
I13: Initiaal | J13: 4cm | L13: 2.75 | M13: =K13*L13 -> 0
I14: Naam | J14: 5cm | L14: 5.5 | M14: =K14*L14 -> 0
I16: Totaal bedrukking (o.v.b.) | M16: =SUM(M7:M14) -> 0
I18: Totaal kleding | M18: =Wedstrijdtenue!I250+Trainingskleding!I197+Presentatiekleding!I152+'Hesjes & Tassen'!I50+#REF! -> #REF!
I20: Totaal bestelling (o.v.b.) | M20: =M16+M18 -> #REF!
I22: Totaal bestelling FG (o.v.b.) | M22: =M18/(100-Wedstrijdtenue!E4*100)*100+M16 -> #REF!

Sheet Wedstrijdtenue
A1: Bestellijst S.V. Houten
A3: Omschrijving | B3: Art. nummer | C3: Kleur | D3: Prijs | E3: Korting | F3: Stukprijs | G3: Maat | H3: Aantal | I3: Totaalprijs incl. btw | J3: Totaalprijs excl. btw | K3: Nummers | L3: Initialen/Namen | M3: ='Team -en bedrukkingsinformatie'!J2 -> Sponsor 1 | N3: ='Team -en bedrukkingsinformatie'!J3 -> Sponsor 2 | O3: ='Team -en bedrukkingsinformatie'!J4 -> Sponsor 3
D4: Nike | E4: 0.25 | F4: Voetbalshop
A5: Wedstrijdtenue(s) thuis | M5: Hanteer dropdown menu (pijl) hieronder voor het aangeven van de bedrukking locatie. De cijfers corresponderen met het bestand die toegevoegd is op de pagina Toelichtingen.
A8: Thuisshirt (junioren) (lange mouw) | B8: HV8239-463 | C8: Blauw | D8: 23 | E8: =D8*$E$4 -> 5.75 | F8: =D8-E8 -> 17.25 | G8: 122 | I8: =H8*F8 -> 0 | J8: =I8/1.21 -> 0
A9: Thuisshirt (junioren) (lange mouw) | B9: HV8239-463 | D9: 23 | E9: =D9*$E$4 -> 5.75 | F9: =D9-E9 -> 17.25 | G9: 128 | I9: =H9*F9 -> 0 | J9: =I9/1.21 -> 0
A10: Thuisshirt (junioren) (lange mouw) | B10: HV8239-463 | D10: 23 | E10: =D10*$E$4 -> 5.75 | F10: =D10-E10 -> 17.25 | G10: 140 | I10: =H10*F10 -> 0 | J10: =I10/1.21 -> 0
A11: Thuisshirt (junioren) (lange mouw) | B11: HV8239-463 | D11: 23 | E11: =D11*$E$4 -> 5.75 | F11: =D11-E11 -> 17.25 | G11: 152 | I11: =H11*F11 -> 0 | J11: =I11/1.21 -> 0
A12: Thuisshirt (junioren) (lange mouw) | B12: HV8239-463 | D12: 23 | E12: =D12*$E$4 -> 5.75 | F12: =D12-E12 -> 17.25 | G12: 164 | I12: =H12*F12 -> 0 | J12: =I12/1.21 -> 0
A13: Thuisshirt (senioren) (lange mouw) | B13: HV8232-463 | C13: Blauw | D13: 25 | E13: =D13*$E$4 -> 6.25 | F13: =D13-E13 -> 18.75 | G13: S | I13: =H13*F13 -> 0 | J13: =I13/1.21 -> 0
A14: Thuisshirt (senioren) (lange mouw) | B14: HV8232-463 | D14: 25 | E14: =D14*$E$4 -> 6.25 | F14: =D14-E14 -> 18.75 | G14: M | I14: =H14*F14 -> 0 | J14: =I14/1.21 -> 0
A15: Thuisshirt (senioren) (lange mouw) | B15: HV8232-463 | D15: 25 | E15: =D15*$E$4 -> 6.25 | F15: =D15-E15 -> 18.75 | G15: L | I15: =H15*F15 -> 0 | J15: =I15/1.21 -> 0
A16: Thuisshirt (senioren) (lange mouw) | B16: HV8232-463 | D16: 25 | E16: =D16*$E$4 -> 6.25 | F16: =D16-E16 -> 18.75 | G16: XL | I16: =H16*F16 -> 0 | J16: =I16/1.21 -> 0
A17: Thuisshirt (senioren) (lange mouw) | B17: HV8232-463 | D17: 25 | E17: =D17*$E$4 -> 6.25 | F17: =D17-E17 -> 18.75 | G17: XXL | I17: =H17*F17 -> 0 | J17: =I17/1.21 -> 0
A19: Thuisshirt (junioren) (korte mouw) | B19: HV8182-463 | C19: Blauw | D19: 18 | E19: =D19*$E$4 -> 4.5 | F19: =D19-E19 -> 13.5 | G19: 122 | I19: =H19*F19 -> 0 | J19: =I19/1.21 -> 0
A20: Thuisshirt (junioren) (korte mouw) | B20: HV8182-463 | D20: 18 | E20: =D20*$E$4 -> 4.5 | F20: =D20-E20 -> 13.5 | G20: 128 | I20: =H20*F20 -> 0 | J20: =I20/1.21 -> 0
A21: Thuisshirt (junioren) (korte mouw) | B21: HV8182-463 | D21: 18 | E21: =D21*$E$4 -> 4.5 | F21: =D21-E21 -> 13.5 | G21: 140 | I21: =H21*F21 -> 0 | J21: =I21/1.21 -> 0
A22: Thuisshirt (junioren) (korte mouw) | B22: HV8182-463 | D22: 18 | E22: =D22*$E$4 -> 4.5 | F22: =D22-E22 -> 13.5 | G22: 152 | I22: =H22*F22 -> 0 | J22: =I22/1.21 -> 0
A23: Thuisshirt (junioren) (korte mouw) | B23: HV8182-463 | D23: 18 | E23: =D23*$E$4 -> 4.5 | F23: =D23-E23 -> 13.5 | G23: 164 | I23: =H23*F23 -> 0 | J23: =I23/1.21 -> 0
A24: Thuisshirt (senioren) (korte mouw) | B24: HV8173-463 | C24: Blauw | D24: 20 | E24: =D24*$E$4 -> 5 | F24: =D24-E24 -> 15 | G24: S | I24: =H24*F24 -> 0 | J24: =I24/1.21 -> 0
A25: Thuisshirt (senioren) (korte mouw) | B25: HV8173-463 | D25: 20 | E25: =D25*$E$4 -> 5 | F25: =D25-E25 -> 15 | G25: M | I25: =H25*F25 -> 0 | J25: =I25/1.21 -> 0
A26: Thuisshirt (senioren) (korte mouw) | B26: HV8173-463 | D26: 20 | E26: =D26*$E$4 -> 5 | F26: =D26-E26 -> 15 | G26: L | I26: =H26*F26 -> 0 | J26: =I26/1.21 -> 0
A27: Thuisshirt (senioren) (korte mouw) | B27: HV8173-463 | D27: 20 | E27: =D27*$E$4 -> 5 | F27: =D27-E27 -> 15 | G27: XL | I27: =H27*F27 -> 0 | J27: =I27/1.21 -> 0
A28: Thuisshirt (senioren) (korte mouw) | B28: HV8173-463 | D28: 20 | E28: =D28*$E$4 -> 5 | F28: =D28-E28 -> 15 | G28: XXL | I28: =H28*F28 -> 0 | J28: =I28/1.21 -> 0
A30: Thuisshirt (vrouwen) (korte mouw) | B30: HV8178-463 | C30: Blauw | D30: 20 | E30: =D30*$E$4 -> 5 | F30: =D30-E30 -> 15 | G30: XS | I30: =H30*F30 -> 0 | J30: =I30/1.21 -> 0
A31: Thuisshirt (vrouwen) (korte mouw) | B31: HV8178-463 | D31: 20 | E31: =D31*$E$4 -> 5 | F31: =D31-E31 -> 15 | G31: S | I31: =H31*F31 -> 0 | J31: =I31/1.21 -> 0
A32: Thuisshirt (vrouwen) (korte mouw) | B32: HV8178-463 | D32: 20 | E32: =D32*$E$4 -> 5 | F32: =D32-E32 -> 15 | G32: M | I32: =H32*F32 -> 0 | J32: =I32/1.21 -> 0
A33: Thuisshirt (vrouwen) (korte mouw) | B33: HV8178-463 | D33: 20 | E33: =D33*$E$4 -> 5 | F33: =D33-E33 -> 15 | G33: L | I33: =H33*F33 -> 0 | J33: =I33/1.21 -> 0
A34: Thuisshirt (vrouwen) (korte mouw) | B34: HV8178-463 | D34: 20 | E34: =D34*$E$4 -> 5 | F34: =D34-E34 -> 15 | G34: XL | I34: =H34*F34 -> 0 | J34: =I34/1.21 -> 0
A36: Thuisshort (junioren) | B36: BV6865-100 | C36: Wit | D36: 15 | E36: =D36*$E$4 -> 3.75 | F36: =D36-E36 -> 11.25 | G36: 122 | I36: =H36*F36 -> 0 | J36: =I36/1.21 -> 0
A37: Thuisshort (junioren) | B37: BV6865-100 | D37: 15 | E37: =D37*$E$4 -> 3.75 | F37: =D37-E37 -> 11.25 | G37: 128 | I37: =H37*F37 -> 0 | J37: =I37/1.21 -> 0
A38: Thuisshort (junioren) | B38: BV6865-100 | D38: 15 | E38: =D38*$E$4 -> 3.75 | F38: =D38-E38 -> 11.25 | G38: 140 | I38: =H38*F38 -> 0 | J38: =I38/1.21 -> 0
A39: Thuisshort (junioren) | B39: BV6865-100 | D39: 15 | E39: =D39*$E$4 -> 3.75 | F39: =D39-E39 -> 11.25 | G39: 152 | I39: =H39*F39 -> 0 | J39: =I39/1.21 -> 0
A40: Thuisshort (junioren) | B40: BV6865-100 | D40: 15 | E40: =D40*$E$4 -> 3.75 | F40: =D40-E40 -> 11.25 | G40: 164 | I40: =H40*F40 -> 0 | J40: =I40/1.21 -> 0
A41: Thuisshort (senioren) | B41: BV6855-100 | C41: Wit | D41: 18 | E41: =D41*$E$4 -> 4.5 | F41: =D41-E41 -> 13.5 | G41: S | I41: =H41*F41 -> 0 | J41: =I41/1.21 -> 0
A42: Thuisshort (senioren) | B42: BV6855-100 | D42: 18 | E42: =D42*$E$4 -> 4.5 | F42: =D42-E42 -> 13.5 | G42: M | I42: =H42*F42 -> 0 | J42: =I42/1.21 -> 0
A43: Thuisshort (senioren) | B43: BV6855-100 | D43: 18 | E43: =D43*$E$4 -> 4.5 | F43: =D43-E43 -> 13.5 | G43: L | I43: =H43*F43 -> 0 | J43: =I43/1.21 -> 0
A44: Thuisshort (senioren) | B44: BV6855-100 | D44: 18 | E44: =D44*$E$4 -> 4.5 | F44: =D44-E44 -> 13.5 | G44: XL | I44: =H44*F44 -> 0 | J44: =I44/1.21 -> 0
A45: Thuisshort (senioren) | B45: BV6855-100 | D45: 18 | E45: =D45*$E$4 -> 4.5 | F45: =D45-E45 -> 13.5 | G45: XXL | I45: =H45*F45 -> 0 | J45: =I45/1.21 -> 0
A47: Thuisshort (vrouwen) | B47: BV6860-100 | C47: Wit | D47: 18 | E47: =D47*$E$4 -> 4.5 | F47: =D47-E47 -> 13.5 | G47: XS | I47: =H47*F47 -> 0 | J47: =I47/1.21 -> 0
A48: Thuisshort (vrouwen) | B48: BV6860-100 | D48: 18 | E48: =D48*$E$4 -> 4.5 | F48: =D48-E48 -> 13.5 | G48: S | I48: =H48*F48 -> 0 | J48: =I48/1.21 -> 0
A49: Thuisshort (vrouwen) | B49: BV6860-100 | D49: 18 | E49: =D49*$E$4 -> 4.5 | F49: =D49-E49 -> 13.5 | G49: M | I49: =H49*F49 -> 0 | J49: =I49/1.21 -> 0
A50: Thuisshort (vrouwen) | B50: BV6860-100 | D50: 18 | E50: =D50*$E$4 -> 4.5 | F50: =D50-E50 -> 13.5 | G50: L | I50: =H50*F50 -> 0 | J50: =I50/1.21 -> 0
A51: Thuisshort (vrouwen) | B51: BV6860-100 | D51: 18 | E51: =D51*$E$4 -> 4.5 | F51: =D51-E51 -> 13.5 | G51: XL | I51: =H51*F51 -> 0 | J51: =I51/1.21 -> 0
A53: Thuiskousen | B53: SX5728-463 | C53: Blauw | D53: 10 | E53: =D53*$E$4 -> 2.5 | F53: =D53-E53 -> 7.5 | G53: 30-34 | I53: =H53*F53 -> 0 | J53: =I53/1.21 -> 0
A54: Thuiskousen | B54: SX5728-463 | D54: 10 | E54: =D54*$E$4 -> 2.5 | F54: =D54-E54 -> 7.5 | G54: 34-38 | I54: =H54*F54 -> 0 | J54: =I54/1.21 -> 0
A55: Thuiskousen | B55: SX5728-463 | D55: 10 | E55: =D55*$E$4 -> 2.5 | F55: =D55-E55 -> 7.5 | G55: 38-42 | I55: =H55*F55 -> 0 | J55: =I55/1.21 -> 0
A56: Thuiskousen | B56: SX5728-463 | D56: 10 | E56: =D56*$E$4 -> 2.5 | F56: =D56-E56 -> 7.5 | G56: 42-46 | I56: =H56*F56 -> 0 | J56: =I56/1.21 -> 0
A57: Thuiskousen | B57: SX5728-463 | D57: 10 | E57: =D57*$E$4 -> 2.5 | F57: =D57-E57 -> 7.5 | G57: 46-50 | I57: =H57*F57 -> 0 | J57: =I57/1.21 -> 0
A59: Thuiskousen luxe | B59: FQ8253-463 | C59: Blauw | D59: 20 | E59: =D59*$E$4 -> 5 | F59: =D59-E59 -> 15 | G59: 30-34 | I59: =H59*F59 -> 0 | J59: =I59/1.21 -> 0
A60: Thuiskousen luxe | B60: FQ8253-463 | D60: 20 | E60: =D60*$E$4 -> 5 | F60: =D60-E60 -> 15 | G60: 34-38 | I60: =H60*F60 -> 0 | J60: =I60/1.21 -> 0
A61: Thuiskousen luxe | B61: FQ8253-463 | D61: 20 | E61: =D61*$E$4 -> 5 | F61: =D61-E61 -> 15 | G61: 38-42 | I61: =H61*F61 -> 0 | J61: =I61/1.21 -> 0
A62: Thuiskousen luxe | B62: FQ8253-463 | D62: 20 | E62: =D62*$E$4 -> 5 | F62: =D62-E62 -> 15 | G62: 42-46 | I62: =H62*F62 -> 0 | J62: =I62/1.21 -> 0
A63: Thuiskousen luxe | B63: FQ8253-463 | D63: 20 | E63: =D63*$E$4 -> 5 | F63: =D63-E63 -> 15 | G63: 46-50 | I63: =H63*F63 -> 0 | J63: =I63/1.21 -> 0
A65: Thuis Sleeves | B65: FQ8282-463 | D65: 12 | E65: =D65*$E$4 -> 3 | F65: =D65-E65 -> 9 | G65: 38-42 | I65: =H65*F65 -> 0 | J65: =I65/1.21 -> 0
A66: Thuis Sleeves | B66: FQ8282-463 | D66: 12 | E66: =D66*$E$4 -> 3 | F66: =D66-E66 -> 9 | G66: 46-50 | I66: =H66*F66 -> 0 | J66: =I66/1.21 -> 0
A68: Sokstopper thuis | B68: SE0047-498 | C68: Blauw | D68: 12 | E68: =D68*$E$4 -> 3 | F68: =D68-E68 -> 9 | G68: STUKS | I68: =H68*F68 -> 0 | J68: =I68/1.21 -> 0
A70: Keepersshirt (1) (junioren) | B70: HV8318-010 | C70: Zwart | D70: 30 | E70: 3 | F70: =D70-E70 -> 27 | G70: 122 | I70: =H70*F70 -> 0 | J70: =I70/1.21 -> 0
A71: Keepersshirt (1) (junioren) | B71: HV8318-010 | D71: 30 | E71: =D71*$E$4 -> 7.5 | F71: =D71-E71 -> 22.5 | G71: 128 | I71: =H71*F71 -> 0 | J71: =I71/1.21 -> 0
A72: Keepersshirt (1) (junioren) | B72: HV8318-010 | D72: 30 | E72: =D72*$E$4 -> 7.5 | F72: =D72-E72 -> 22.5 | G72: 140 | I72: =H72*F72 -> 0 | J72: =I72/1.21 -> 0
A73: Keepersshirt (1) (junioren) | B73: HV8318-010 | D73: 30 | E73: =D73*$E$4 -> 7.5 | F73: =D73-E73 -> 22.5 | G73: 152 | I73: =H73*F73 -> 0 | J73: =I73/1.21 -> 0
A74: Keepersshirt (1) (junioren) | B74: HV8318-010 | D74: 30 | E74: =D74*$E$4 -> 7.5 | F74: =D74-E74 -> 22.5 | G74: 164 | I74: =H74*F74 -> 0 | J74: =I74/1.21 -> 0
A75: Keepersshirt (1) (senioren) | B75: HV8314-010 | C75: Zwart | D75: 38 | E75: =D75*$E$4 -> 9.5 | F75: =D75-E75 -> 28.5 | G75: S | I75: =H75*F75 -> 0 | J75: =I75/1.21 -> 0
A76: Keepersshirt (1) (senioren) | B76: HV8314-010 | D76: 38 | E76: =D76*$E$4 -> 9.5 | F76: =D76-E76 -> 28.5 | G76: M | I76: =H76*F76 -> 0 | J76: =I76/1.21 -> 0
A77: Keepersshirt (1) (senioren) | B77: HV8314-010 | D77: 38 | E77: =D77*$E$4 -> 9.5 | F77: =D77-E77 -> 28.5 | G77: L | I77: =H77*F77 -> 0 | J77: =I77/1.21 -> 0
A78: Keepersshirt (1) (senioren) | B78: HV8314-010 | D78: 38 | E78: =D78*$E$4 -> 9.5 | F78: =D78-E78 -> 28.5 | G78: XL | I78: =H78*F78 -> 0 | J78: =I78/1.21 -> 0
A79: Keepersshirt (1) (senioren) | B79: HV8314-010 | D79: 38 | E79: =D79*$E$4 -> 9.5 | F79: =D79-E79 -> 28.5 | G79: XXL | I79: =H79*F79 -> 0 | J79: =I79/1.21 -> 0
A81: Keepersshirt (1) (vrouwen) | B81: HV8316-010 | C81: Zwart | D81: 38 | E81: =D81*$E$4 -> 9.5 | F81: =D81-E81 -> 28.5 | G81: S | I81: =H81*F81 -> 0 | J81: =I81/1.21 -> 0
A82: Keepersshirt (1) (vrouwen) | B82: HV8316-010 | D82: 38 | E82: =D82*$E$4 -> 9.5 | F82: =D82-E82 -> 28.5 | G82: M | I82: =H82*F82 -> 0 | J82: =I82/1.21 -> 0
A83: Keepersshirt (1) (vrouwen) | B83: HV8316-010 | D83: 38 | E83: =D83*$E$4 -> 9.5 | F83: =D83-E83 -> 28.5 | G83: L | I83: =H83*F83 -> 0 | J83: =I83/1.21 -> 0
A84: Keepersshirt (1) (vrouwen) | B84: HV8316-010 | D84: 38 | E84: =D84*$E$4 -> 9.5 | F84: =D84-E84 -> 28.5 | G84: XL | I84: =H84*F84 -> 0 | J84: =I84/1.21 -> 0
A85: Keepersshirt (1) (vrouwen) | B85: HV8316-010 | D85: 38 | E85: =D85*$E$4 -> 9.5 | F85: =D85-E85 -> 28.5 | G85: XXL | I85: =H85*F85 -> 0 | J85: =I85/1.21 -> 0
A87: Keepersshirt (2) (junioren) | B87: HV8318-324 | C87: Groen | D87: 30 | E87: =D87*$E$4 -> 7.5 | F87: =D87-E87 -> 22.5 | G87: 122 | I87: =H87*F87 -> 0 | J87: =I87/1.21 -> 0
A88: Keepersshirt (2) (junioren) | B88: HV8318-324 | D88: 30 | E88: =D88*$E$4 -> 7.5 | F88: =D88-E88 -> 22.5 | G88: 128 | I88: =H88*F88 -> 0 | J88: =I88/1.21 -> 0
A89: Keepersshirt (2) (junioren) | B89: HV8318-324 | D89: 30 | E89: =D89*$E$4 -> 7.5 | F89: =D89-E89 -> 22.5 | G89: 140 | I89: =H89*F89 -> 0 | J89: =I89/1.21 -> 0
A90: Keepersshirt (2) (junioren) | B90: HV8318-324 | D90: 30 | E90: =D90*$E$4 -> 7.5 | F90: =D90-E90 -> 22.5 | G90: 152 | I90: =H90*F90 -> 0 | J90: =I90/1.21 -> 0
A91: Keepersshirt (2) (junioren) | B91: HV8318-324 | D91: 30 | E91: =D91*$E$4 -> 7.5 | F91: =D91-E91 -> 22.5 | G91: 164 | I91: =H91*F91 -> 0 | J91: =I91/1.21 -> 0
A92: Keepersshirt (2) (senioren) | B92: HV8314-324 | C92: Groen | D92: 38 | E92: =D92*$E$4 -> 9.5 | F92: =D92-E92 -> 28.5 | G92: S | I92: =H92*F92 -> 0 | J92: =I92/1.21 -> 0
A93: Keepersshirt (2) (senioren) | B93: HV8314-324 | D93: 38 | E93: =D93*$E$4 -> 9.5 | F93: =D93-E93 -> 28.5 | G93: M | I93: =H93*F93 -> 0 | J93: =I93/1.21 -> 0
A94: Keepersshirt (2) (senioren) | B94: HV8314-324 | D94: 38 | E94: =D94*$E$4 -> 9.5 | F94: =D94-E94 -> 28.5 | G94: L | I94: =H94*F94 -> 0 | J94: =I94/1.21 -> 0
A95: Keepersshirt (2) (senioren) | B95: HV8314-324 | D95: 38 | E95: =D95*$E$4 -> 9.5 | F95: =D95-E95 -> 28.5 | G95: XL | I95: =H95*F95 -> 0 | J95: =I95/1.21 -> 0
A96: Keepersshirt (2) (senioren) | B96: HV8314-324 | D96: 38 | E96: =D96*$E$4 -> 9.5 | F96: =D96-E96 -> 28.5 | G96: XXL | I96: =H96*F96 -> 0 | J96: =I96/1.21 -> 0
A98: Keepersshirt (2) (vrouwen) | B98: HV8316-324 | C98: Groen | D98: 38 | E98: =D98*$E$4 -> 9.5 | F98: =D98-E98 -> 28.5 | G98: S | I98: =H98*F98 -> 0 | J98: =I98/1.21 -> 0
A99: Keepersshirt (2) (vrouwen) | B99: HV8316-324 | D99: 38 | E99: =D99*$E$4 -> 9.5 | F99: =D99-E99 -> 28.5 | G99: M | I99: =H99*F99 -> 0 | J99: =I99/1.21 -> 0
A100: Keepersshirt (2) (vrouwen) | B100: HV8316-324 | D100: 38 | E100: =D100*$E$4 -> 9.5 | F100: =D100-E100 -> 28.5 | G100: L | I100: =H100*F100 -> 0 | J100: =I100/1.21 -> 0
A101: Keepersshirt (2) (vrouwen) | B101: HV8316-324 | D101: 38 | E101: =D101*$E$4 -> 9.5 | F101: =D101-E101 -> 28.5 | G101: XL | I101: =H101*F101 -> 0 | J101: =I101/1.21 -> 0
A102: Keepersshirt (2) (vrouwen) | B102: HV8316-324 | D102: 38 | E102: =D102*$E$4 -> 9.5 | F102: =D102-E102 -> 28.5 | G102: XXL | I102: =H102*F102 -> 0 | J102: =I102/1.21 -> 0
A104: Keepersshort (1) (junioren) | B104: BV6865-010 | C104: Zwart | D104: 15 | E104: =D104*$E$4 -> 3.75 | F104: =D104-E104 -> 11.25 | G104: 122 | I104: =H104*F104 -> 0 | J104: =I104/1.21 -> 0
A105: Keepersshort (1) (junioren) | B105: BV6865-010 | D105: 15 | E105: =D105*$E$4 -> 3.75 | F105: =D105-E105 -> 11.25 | G105: 128 | I105: =H105*F105 -> 0 | J105: =I105/1.21 -> 0
A106: Keepersshort (1) (junioren) | B106: BV6865-010 | D106: 15 | E106: =D106*$E$4 -> 3.75 | F106: =D106-E106 -> 11.25 | G106: 140 | I106: =H106*F106 -> 0 | J106: =I106/1.21 -> 0
A107: Keepersshort (1) (junioren) | B107: BV6865-010 | D107: 15 | E107: =D107*$E$4 -> 3.75 | F107: =D107-E107 -> 11.25 | G107: 152 | I107: =H107*F107 -> 0 | J107: =I107/1.21 -> 0
A108: Keepersshort (1) (junioren) | B108: BV6865-010 | D108: 15 | E108: =D108*$E$4 -> 3.75 | F108: =D108-E108 -> 11.25 | G108: 164 | I108: =H108*F108 -> 0 | J108: =I108/1.21 -> 0
A109: Keepersshort (1) (senioren) | B109: BV6855-010 | C109: Zwart | D109: 18 | E109: =D109*$E$4 -> 4.5 | F109: =D109-E109 -> 13.5 | G109: S | I109: =H109*F109 -> 0 | J109: =I109/1.21 -> 0
A110: Keepersshort (1) (senioren) | B110: BV6855-010 | D110: 18 | E110: =D110*$E$4 -> 4.5 | F110: =D110-E110 -> 13.5 | G110: M | I110: =H110*F110 -> 0 | J110: =I110/1.21 -> 0
A111: Keepersshort (1) (senioren) | B111: BV6855-010 | D111: 18 | E111: =D111*$E$4 -> 4.5 | F111: =D111-E111 -> 13.5 | G111: L | I111: =H111*F111 -> 0 | J111: =I111/1.21 -> 0
A112: Keepersshort (1) (senioren) | B112: BV6855-010 | D112: 18 | E112: =D112*$E$4 -> 4.5 | F112: =D112-E112 -> 13.5 | G112: XL | I112: =H112*F112 -> 0 | J112: =I112/1.21 -> 0
A113: Keepersshort (1) (senioren) | B113: BV6855-010 | D113: 18 | E113: =D113*$E$4 -> 4.5 | F113: =D113-E113 -> 13.5 | G113: XXL | I113: =H113*F113 -> 0 | J113: =I113/1.21 -> 0
A115: Keepersshort (2) (junioren) | B115: BV6865-302 | C115: Groen | D115: 15 | E115: =D115*$E$4 -> 3.75 | F115: =D115-E115 -> 11.25 | G115: 122 | I115: =H115*F115 -> 0 | J115: =I115/1.21 -> 0
A116: Keepersshort (2) (junioren) | B116: BV6865-302 | D116: 15 | E116: =D116*$E$4 -> 3.75 | F116: =D116-E116 -> 11.25 | G116: 128 | I116: =H116*F116 -> 0 | J116: =I116/1.21 -> 0
A117: Keepersshort (2) (junioren) | B117: BV6865-302 | D117: 15 | E117: =D117*$E$4 -> 3.75 | F117: =D117-E117 -> 11.25 | G117: 140 | I117: =H117*F117 -> 0 | J117: =I117/1.21 -> 0
...

Sheet Trainingskleding
A1: =Wedstrijdtenue!A1 -> Bestellijst S.V. Houten
A3: Omschrijving | B3: Art. nummer | C3: Kleur | D3: Prijs | E3: Korting | F3: Stukprijs | G3: Maat | H3: Aantal | I3: Totaalprijs incl. btw | J3: Totaalprijs excl. btw | K3: Nummers | L3: Initialen/Namen | M3: ='Team -en bedrukkingsinformatie'!J2 -> Sponsor 1 | N3: ='Team -en bedrukkingsinformatie'!J3 -> Sponsor 2 | O3: ='Team -en bedrukkingsinformatie'!J4 -> Sponsor 3
D4: Nike | E4: =Wedstrijdtenue!E4 -> 0.25 | F4: Voetbalshop
A5: Trainingstenue(s) junioren & senioren | M5: Hanteer dropdown menu (pijl) hieronder voor het aangeven van de bedrukking locatie. De cijfers corresponderen met het bestand die toegevoegd is op de pagina Toelichtingen.
A8: Trainingsjack (junioren) | B8: FZ9836-463 | C8: Blauw | D8: 43 | E8: =D8*$E$4 -> 10.75 | F8: =D8-E8 -> 32.25 | G8: 122 | I8: =H8*F8 -> 0 | J8: =I8/1.21 -> 0
A9: Trainingsjack (junioren) | B9: FZ9836-463 | D9: 43 | E9: =D9*$E$4 -> 10.75 | F9: =D9-E9 -> 32.25 | G9: 128 | I9: =H9*F9 -> 0 | J9: =I9/1.21 -> 0
A10: Trainingsjack (junioren) | B10: FZ9836-463 | D10: 43 | E10: =D10*$E$4 -> 10.75 | F10: =D10-E10 -> 32.25 | G10: 140 | I10: =H10*F10 -> 0 | J10: =I10/1.21 -> 0
A11: Trainingsjack (junioren) | B11: FZ9836-463 | D11: 43 | E11: =D11*$E$4 -> 10.75 | F11: =D11-E11 -> 32.25 | G11: 152 | I11: =H11*F11 -> 0 | J11: =I11/1.21 -> 0
A12: Trainingsjack (junioren) | B12: FZ9836-463 | D12: 43 | E12: =D12*$E$4 -> 10.75 | F12: =D12-E12 -> 32.25 | G12: 164 | I12: =H12*F12 -> 0 | J12: =I12/1.21 -> 0
A13: Trainingsjack (senioren) | B13: FZ9824-463 | C13: Blauw | D13: 45 | E13: =D13*$E$4 -> 11.25 | F13: =D13-E13 -> 33.75 | G13: XS | I13: =H13*F13 -> 0 | J13: =I13/1.21 -> 0
A14: Trainingsjack (senioren) | B14: FZ9824-463 | D14: 45 | E14: =D14*$E$4 -> 11.25 | F14: =D14-E14 -> 33.75 | G14: S | I14: =H14*F14 -> 0 | J14: =I14/1.21 -> 0
A15: Trainingsjack (senioren) | B15: FZ9824-463 | D15: 45 | E15: =D15*$E$4 -> 11.25 | F15: =D15-E15 -> 33.75 | G15: M | I15: =H15*F15 -> 0 | J15: =I15/1.21 -> 0
A16: Trainingsjack (senioren) | B16: FZ9824-463 | D16: 45 | E16: =D16*$E$4 -> 11.25 | F16: =D16-E16 -> 33.75 | G16: L | I16: =H16*F16 -> 0 | J16: =I16/1.21 -> 0
A17: Trainingsjack (senioren) | B17: FZ9824-463 | D17: 45 | E17: =D17*$E$4 -> 11.25 | F17: =D17-E17 -> 33.75 | G17: XL | I17: =H17*F17 -> 0 | J17: =I17/1.21 -> 0
A18: Trainingsjack (senioren) | B18: FZ9824-463 | D18: 45 | E18: =D18*$E$4 -> 11.25 | F18: =D18-E18 -> 33.75 | G18: XXL | I18: =H18*F18 -> 0 | J18: =I18/1.21 -> 0
A19: Trainingsjack (senioren) | B19: FZ9824-463 | D19: 45 | E19: =D19*$E$4 -> 11.25 | F19: =D19-E19 -> 33.75 | G19: XXXL | I19: =H19*F19 -> 0 | J19: =I19/1.21 -> 0
A21: Trainingstrui (junioren) | B21: FZ9773-463 | C21: Blauw | D21: 40 | E21: =D21*$E$4 -> 10 | F21: =D21-E21 -> 30 | G21: 122 | I21: =H21*F21 -> 0 | J21: =I21/1.21 -> 0
A22: Trainingstrui (junioren) | B22: FZ9773-463 | D22: 40 | E22: =D22*$E$4 -> 10 | F22: =D22-E22 -> 30 | G22: 128 | I22: =H22*F22 -> 0 | J22: =I22/1.21 -> 0
A23: Trainingstrui (junioren) | B23: FZ9773-463 | D23: 40 | E23: =D23*$E$4 -> 10 | F23: =D23-E23 -> 30 | G23: 140 | I23: =H23*F23 -> 0 | J23: =I23/1.21 -> 0
A24: Trainingstrui (junioren) | B24: FZ9773-463 | D24: 40 | E24: =D24*$E$4 -> 10 | F24: =D24-E24 -> 30 | G24: 152 | I24: =H24*F24 -> 0 | J24: =I24/1.21 -> 0
A25: Trainingstrui (junioren) | B25: FZ9773-463 | D25: 40 | E25: =D25*$E$4 -> 10 | F25: =D25-E25 -> 30 | G25: 164 | I25: =H25*F25 -> 0 | J25: =I25/1.21 -> 0
A26: Trainingstrui (senioren) | B26: FZ9773-463 | C26: Blauw | D26: 45 | E26: =D26*$E$4 -> 11.25 | F26: =D26-E26 -> 33.75 | G26: XS | I26: =H26*F26 -> 0 | J26: =I26/1.21 -> 0
A27: Trainingstrui (senioren) | B27: FZ9767-463 | D27: 45 | E27: =D27*$E$4 -> 11.25 | F27: =D27-E27 -> 33.75 | G27: S | I27: =H27*F27 -> 0 | J27: =I27/1.21 -> 0
A28: Trainingstrui (senioren) | B28: FZ9767-463 | D28: 45 | E28: =D28*$E$4 -> 11.25 | F28: =D28-E28 -> 33.75 | G28: M | I28: =H28*F28 -> 0 | J28: =I28/1.21 -> 0
A29: Trainingstrui (senioren) | B29: FZ9767-463 | D29: 45 | E29: =D29*$E$4 -> 11.25 | F29: =D29-E29 -> 33.75 | G29: L | I29: =H29*F29 -> 0 | J29: =I29/1.21 -> 0
A30: Trainingstrui (senioren) | B30: FZ9767-463 | D30: 45 | E30: =D30*$E$4 -> 11.25 | F30: =D30-E30 -> 33.75 | G30: XL | I30: =H30*F30 -> 0 | J30: =I30/1.21 -> 0
A31: Trainingstrui (senioren) | B31: FZ9767-463 | D31: 45 | E31: =D31*$E$4 -> 11.25 | F31: =D31-E31 -> 33.75 | G31: XXL | I31: =H31*F31 -> 0 | J31: =I31/1.21 -> 0
A32: Trainingstrui (senioren) | B32: FZ9767-463 | D32: 45 | E32: =D32*$E$4 -> 11.25 | F32: =D32-E32 -> 33.75 | G32: XXXL | I32: =H32*F32 -> 0 | J32: =I32/1.21 -> 0
A34: Trainingsbroek (junioren) | B34: FZ9816-410 | C34: Donkerblauw | D34: 40 | E34: =D34*$E$4 -> 10 | F34: =D34-E34 -> 30 | G34: 122 | I34: =H34*F34 -> 0 | J34: =I34/1.21 -> 0
A35: Trainingsbroek (junioren) | B35: FZ9816-410 | D35: 40 | E35: =D35*$E$4 -> 10 | F35: =D35-E35 -> 30 | G35: 128 | I35: =H35*F35 -> 0 | J35: =I35/1.21 -> 0
A36: Trainingsbroek (junioren) | B36: FZ9816-410 | D36: 40 | E36: =D36*$E$4 -> 10 | F36: =D36-E36 -> 30 | G36: 140 | I36: =H36*F36 -> 0 | J36: =I36/1.21 -> 0
A37: Trainingsbroek (junioren) | B37: FZ9816-410 | D37: 40 | E37: =D37*$E$4 -> 10 | F37: =D37-E37 -> 30 | G37: 152 | I37: =H37*F37 -> 0 | J37: =I37/1.21 -> 0
A38: Trainingsbroek (junioren) | B38: FZ9816-410 | D38: 40 | E38: =D38*$E$4 -> 10 | F38: =D38-E38 -> 30 | G38: 164 | I38: =H38*F38 -> 0 | J38: =I38/1.21 -> 0
A39: Trainingsbroek (senioren) | B39: FZ9805-410 | C39: Donkerblauw | D39: 45 | E39: =D39*$E$4 -> 11.25 | F39: =D39-E39 -> 33.75 | G39: XS | I39: =H39*F39 -> 0 | J39: =I39/1.21 -> 0
A40: Trainingsbroek (senioren) | B40: FZ9805-410 | D40: 45 | E40: =D40*$E$4 -> 11.25 | F40: =D40-E40 -> 33.75 | G40: S | I40: =H40*F40 -> 0 | J40: =I40/1.21 -> 0
A41: Trainingsbroek (senioren) | B41: FZ9805-410 | D41: 45 | E41: =D41*$E$4 -> 11.25 | F41: =D41-E41 -> 33.75 | G41: M | I41: =H41*F41 -> 0 | J41: =I41/1.21 -> 0
A42: Trainingsbroek (senioren) | B42: FZ9805-410 | D42: 45 | E42: =D42*$E$4 -> 11.25 | F42: =D42-E42 -> 33.75 | G42: L | I42: =H42*F42 -> 0 | J42: =I42/1.21 -> 0
A43: Trainingsbroek (senioren) | B43: FZ9805-410 | D43: 45 | E43: =D43*$E$4 -> 11.25 | F43: =D43-E43 -> 33.75 | G43: XL | I43: =H43*F43 -> 0 | J43: =I43/1.21 -> 0
A44: Trainingsbroek (senioren) | B44: FZ9805-410 | D44: 45 | E44: =D44*$E$4 -> 11.25 | F44: =D44-E44 -> 33.75 | G44: XXL | I44: =H44*F44 -> 0 | J44: =I44/1.21 -> 0
A45: Trainingsbroek (senioren) | B45: FZ9805-410 | D45: 45 | E45: =D45*$E$4 -> 11.25 | F45: =D45-E45 -> 33.75 | G45: XXXL | I45: =H45*F45 -> 0 | J45: =I45/1.21 -> 0
A47: Trainingsshirt (junioren) | B47: FZ9758-463 | C47: Blauw | D47: 20 | E47: =D47*$E$4 -> 5 | F47: =D47-E47 -> 15 | G47: 122 | I47: =H47*F47 -> 0 | J47: =I47/1.21 -> 0
A48: Trainingsshirt (junioren) | B48: FZ9758-463 | D48: 20 | E48: =D48*$E$4 -> 5 | F48: =D48-E48 -> 15 | G48: 128 | I48: =H48*F48 -> 0 | J48: =I48/1.21 -> 0
A49: Trainingsshirt (junioren) | B49: FZ9758-463 | D49: 20 | E49: =D49*$E$4 -> 5 | F49: =D49-E49 -> 15 | G49: 140 | I49: =H49*F49 -> 0 | J49: =I49/1.21 -> 0
A50: Trainingsshirt (junioren) | B50: FZ9758-463 | D50: 20 | E50: =D50*$E$4 -> 5 | F50: =D50-E50 -> 15 | G50: 152 | I50: =H50*F50 -> 0 | J50: =I50/1.21 -> 0
A51: Trainingsshirt (junioren) | B51: FZ9758-463 | D51: 20 | E51: =D51*$E$4 -> 5 | F51: =D51-E51 -> 15 | G51: 164 | I51: =H51*F51 -> 0 | J51: =I51/1.21 -> 0
A52: Trainingsshirt (senioren) | B52: FZ9754-463 | C52: Blauw | D52: 25 | E52: =D52*$E$4 -> 6.25 | F52: =D52-E52 -> 18.75 | G52: XS | I52: =H52*F52 -> 0 | J52: =I52/1.21 -> 0
A53: Trainingsshirt (senioren) | B53: FZ9754-463 | D53: 25 | E53: =D53*$E$4 -> 6.25 | F53: =D53-E53 -> 18.75 | G53: S | I53: =H53*F53 -> 0 | J53: =I53/1.21 -> 0
A54: Trainingsshirt (senioren) | B54: FZ9754-463 | D54: 25 | E54: =D54*$E$4 -> 6.25 | F54: =D54-E54 -> 18.75 | G54: M | I54: =H54*F54 -> 0 | J54: =I54/1.21 -> 0
A55: Trainingsshirt (senioren) | B55: FZ9754-463 | D55: 25 | E55: =D55*$E$4 -> 6.25 | F55: =D55-E55 -> 18.75 | G55: L | I55: =H55*F55 -> 0 | J55: =I55/1.21 -> 0
A56: Trainingsshirt (senioren) | B56: FZ9754-463 | D56: 25 | E56: =D56*$E$4 -> 6.25 | F56: =D56-E56 -> 18.75 | G56: XL | I56: =H56*F56 -> 0 | J56: =I56/1.21 -> 0
A57: Trainingsshirt (senioren) | B57: FZ9754-463 | D57: 25 | E57: =D57*$E$4 -> 6.25 | F57: =D57-E57 -> 18.75 | G57: XXL | I57: =H57*F57 -> 0 | J57: =I57/1.21 -> 0
A58: Trainingsshirt (senioren) | B58: FZ9754-463 | D58: 25 | E58: =D58*$E$4 -> 6.25 | F58: =D58-E58 -> 18.75 | G58: XXXL | I58: =H58*F58 -> 0 | J58: =I58/1.21 -> 0
A60: Trainingsshort (junioren) | B60: FZ9784-410 | C60: Donkerblauw | D60: 20 | E60: =D60*$E$4 -> 5 | F60: =D60-E60 -> 15 | G60: 122 | I60: =H60*F60 -> 0 | J60: =I60/1.21 -> 0
A61: Trainingsshort (junioren) | B61: FZ9784-410 | D61: 20 | E61: =D61*$E$4 -> 5 | F61: =D61-E61 -> 15 | G61: 128 | I61: =H61*F61 -> 0 | J61: =I61/1.21 -> 0
A62: Trainingsshort (junioren) | B62: FZ9784-410 | D62: 20 | E62: =D62*$E$4 -> 5 | F62: =D62-E62 -> 15 | G62: 140 | I62: =H62*F62 -> 0 | J62: =I62/1.21 -> 0
A63: Trainingsshort (junioren) | B63: FZ9784-410 | D63: 20 | E63: =D63*$E$4 -> 5 | F63: =D63-E63 -> 15 | G63: 152 | I63: =H63*F63 -> 0 | J63: =I63/1.21 -> 0
A64: Trainingsshort (junioren) | B64: FZ9784-410 | D64: 20 | E64: =D64*$E$4 -> 5 | F64: =D64-E64 -> 15 | G64: 164 | I64: =H64*F64 -> 0 | J64: =I64/1.21 -> 0
A65: Trainingsshort (senioren) | B65: FZ9776-410 | C65: Donkerblauw | D65: 25 | E65: =D65*$E$4 -> 6.25 | F65: =D65-E65 -> 18.75 | G65: XS | I65: =H65*F65 -> 0 | J65: =I65/1.21 -> 0
A66: Trainingsshort (senioren) | B66: FZ9776-410 | D66: 25 | E66: =D66*$E$4 -> 6.25 | F66: =D66-E66 -> 18.75 | G66: S | I66: =H66*F66 -> 0 | J66: =I66/1.21 -> 0
A67: Trainingsshort (senioren) | B67: FZ9776-410 | D67: 25 | E67: =D67*$E$4 -> 6.25 | F67: =D67-E67 -> 18.75 | G67: M | I67: =H67*F67 -> 0 | J67: =I67/1.21 -> 0
A68: Trainingsshort (senioren) | B68: FZ9776-410 | D68: 25 | E68: =D68*$E$4 -> 6.25 | F68: =D68-E68 -> 18.75 | G68: L | I68: =H68*F68 -> 0 | J68: =I68/1.21 -> 0
A69: Trainingsshort (senioren) | B69: FZ9776-410 | D69: 25 | E69: =D69*$E$4 -> 6.25 | F69: =D69-E69 -> 18.75 | G69: XL | I69: =H69*F69 -> 0 | J69: =I69/1.21 -> 0
A70: Trainingsshort (senioren) | B70: FZ9776-410 | D70: 25 | E70: =D70*$E$4 -> 6.25 | F70: =D70-E70 -> 18.75 | G70: XXL | I70: =H70*F70 -> 0 | J70: =I70/1.21 -> 0
A71: Trainingsshort (senioren) | B71: FZ9776-410 | D71: 25 | E71: =D71*$E$4 -> 6.25 | F71: =D71-E71 -> 18.75 | G71: XXXL | I71: =H71*F71 -> 0 | J71: =I71/1.21 -> 0
A73: Regenjack (junioren) | B73: FZ9863-410 | C73: Donkerblauw | D73: 65 | E73: =D73*$E$4 -> 16.25 | F73: =D73-E73 -> 48.75 | G73: 122 | I73: =H73*F73 -> 0 | J73: =I73/1.21 -> 0
A74: Regenjack (junioren) | B74: FZ9863-410 | D74: 65 | E74: =D74*$E$4 -> 16.25 | F74: =D74-E74 -> 48.75 | G74: 128 | I74: =H74*F74 -> 0 | J74: =I74/1.21 -> 0
A75: Regenjack (junioren) | B75: FZ9863-410 | D75: 65 | E75: =D75*$E$4 -> 16.25 | F75: =D75-E75 -> 48.75 | G75: 140 | I75: =H75*F75 -> 0 | J75: =I75/1.21 -> 0
A76: Regenjack (junioren) | B76: FZ9863-410 | D76: 65 | E76: =D76*$E$4 -> 16.25 | F76: =D76-E76 -> 48.75 | G76: 152 | I76: =H76*F76 -> 0 | J76: =I76/1.21 -> 0
A77: Regenjack (junioren) | B77: FZ9863-410 | D77: 65 | E77: =D77*$E$4 -> 16.25 | F77: =D77-E77 -> 48.75 | G77: 164 | I77: =H77*F77 -> 0 | J77: =I77/1.21 -> 0
A78: Regenjack (senioren) | B78: FZ9858-410 | C78: Donkerblauw | D78: 70 | E78: =D78*$E$4 -> 17.5 | F78: =D78-E78 -> 52.5 | G78: S | I78: =H78*F78 -> 0 | J78: =I78/1.21 -> 0
A79: Regenjack (senioren) | B79: FZ9858-410 | D79: 70 | E79: =D79*$E$4 -> 17.5 | F79: =D79-E79 -> 52.5 | G79: M | I79: =H79*F79 -> 0 | J79: =I79/1.21 -> 0
A80: Regenjack (senioren) | B80: FZ9858-410 | D80: 70 | E80: =D80*$E$4 -> 17.5 | F80: =D80-E80 -> 52.5 | G80: L | I80: =H80*F80 -> 0 | J80: =I80/1.21 -> 0
A81: Regenjack (senioren) | B81: FZ9858-410 | D81: 70 | E81: =D81*$E$4 -> 17.5 | F81: =D81-E81 -> 52.5 | G81: XL | I81: =H81*F81 -> 0 | J81: =I81/1.21 -> 0
A82: Regenjack (senioren) | B82: FZ9858-410 | D82: 70 | E82: =D82*$E$4 -> 17.5 | F82: =D82-E82 -> 52.5 | G82: XXL | I82: =H82*F82 -> 0 | J82: =I82/1.21 -> 0
A84: Trainingskousen | B84: SX5728-411 | C84: Donkerblauw | D84: 10 | E84: =D84*$E$4 -> 2.5 | F84: =D84-E84 -> 7.5 | G84: 30-34 | I84: =H84*F84 -> 0 | J84: =I84/1.21 -> 0
A85: Trainingskousen | B85: SX5728-411 | D85: 10 | E85: =D85*$E$4 -> 2.5 | F85: =D85-E85 -> 7.5 | G85: 34-38 | I85: =H85*F85 -> 0 | J85: =I85/1.21 -> 0
A86: Trainingskousen | B86: SX5728-411 | D86: 10 | E86: =D86*$E$4 -> 2.5 | F86: =D86-E86 -> 7.5 | G86: 38-42 | I86: =H86*F86 -> 0 | J86: =I86/1.21 -> 0
A87: Trainingskousen | B87: SX5728-411 | D87: 10 | E87: =D87*$E$4 -> 2.5 | F87: =D87-E87 -> 7.5 | G87: 42-46 | I87: =H87*F87 -> 0 | J87: =I87/1.21 -> 0
A88: Trainingskousen | B88: SX5728-411 | D88: 10 | E88: =D88*$E$4 -> 2.5 | F88: =D88-E88 -> 7.5 | G88: 46-50 | I88: =H88*F88 -> 0 | J88: =I88/1.21 -> 0
A90: Korte trainingskous | B90: FZ8485-410 | C90: Donkerblauw | D90: 13 | E90: =D90*$E$4 -> 3.25 | F90: =D90-E90 -> 9.75 | G90: 30-34 | I90: =H90*F90 -> 0 | J90: =I90/1.21 -> 0
A91: Korte trainingskous | B91: FZ8485-410 | D91: 13 | E91: =D91*$E$4 -> 3.25 | F91: =D91-E91 -> 9.75 | G91: 34-38 | I91: =H91*F91 -> 0 | J91: =I91/1.21 -> 0
A92: Korte trainingskous | B92: FZ8485-410 | D92: 13 | E92: =D92*$E$4 -> 3.25 | F92: =D92-E92 -> 9.75 | G92: 38-42 | I92: =H92*F92 -> 0 | J92: =I92/1.21 -> 0
A93: Korte trainingskous | B93: FZ8485-410 | D93: 13 | E93: =D93*$E$4 -> 3.25 | F93: =D93-E93 -> 9.75 | G93: 42-46 | I93: =H93*F93 -> 0 | J93: =I93/1.21 -> 0
A94: Korte trainingskous | B94: FZ8485-410 | D94: 13 | E94: =D94*$E$4 -> 3.25 | F94: =D94-E94 -> 9.75 | G94: 46-50 | I94: =H94*F94 -> 0 | J94: =I94/1.21 -> 0
A95: Trainingstenue(s) vrouwen
A98: Trainingsjack | B98: FZ9826-463 | C98: Blauw | D98: 45 | E98: =D98*$E$4 -> 11.25 | F98: =D98-E98 -> 33.75 | G98: XS | I98: =H98*F98 -> 0 | J98: =I98/1.21 -> 0
A99: Trainingsjack | B99: FZ9826-463 | D99: 45 | E99: =D99*$E$4 -> 11.25 | F99: =D99-E99 -> 33.75 | G99: S | I99: =H99*F99 -> 0 | J99: =I99/1.21 -> 0
A100: Trainingsjack | B100: FZ9826-463 | D100: 45 | E100: =D100*$E$4 -> 11.25 | F100: =D100-E100 -> 33.75 | G100: M | I100: =H100*F100 -> 0 | J100: =I100/1.21 -> 0
A101: Trainingsjack | B101: FZ9826-463 | D101: 45 | E101: =D101*$E$4 -> 11.25 | F101: =D101-E101 -> 33.75 | G101: L | I101: =H101*F101 -> 0 | J101: =I101/1.21 -> 0
A102: Trainingsjack | B102: FZ9826-463 | D102: 45 | E102: =D102*$E$4 -> 11.25 | F102: =D102-E102 -> 33.75 | G102: XL | I102: =H102*F102 -> 0 | J102: =I102/1.21 -> 0
A103: Trainingsjack | B103: FZ9826-463 | D103: 45 | E103: =D103*$E$4 -> 11.25 | F103: =D103-E103 -> 33.75 | G103: XXL | I103: =H103*F103 -> 0 | J103: =I103/1.21 -> 0
A105: Trainingstrui | B105: FZ9770-463 | C105: Blauw | D105: 45 | E105: =D105*$E$4 -> 11.25 | F105: =D105-E105 -> 33.75 | G105: XS | I105: =H105*F105 -> 0 | J105: =I105/1.21 -> 0
A106: Trainingstrui | B106: FZ9770-463 | D106: 45 | E106: =D106*$E$4 -> 11.25 | F106: =D106-E106 -> 33.75 | G106: S | I106: =H106*F106 -> 0 | J106: =I106/1.21 -> 0
A107: Trainingstrui | B107: FZ9770-463 | D107: 45 | E107: =D107*$E$4 -> 11.25 | F107: =D107-E107 -> 33.75 | G107: M | I107: =H107*F107 -> 0 | J107: =I107/1.21 -> 0
A108: Trainingstrui | B108: FZ9770-463 | D108: 45 | E108: =D108*$E$4 -> 11.25 | F108: =D108-E108 -> 33.75 | G108: L | I108: =H108*F108 -> 0 | J108: =I108/1.21 -> 0
A109: Trainingstrui | B109: FZ9770-463 | D109: 45 | E109: =D109*$E$4 -> 11.25 | F109: =D109-E109 -> 33.75 | G109: XL | I109: =H109*F109 -> 0 | J109: =I109/1.21 -> 0
A110: Trainingstrui | B110: FZ9770-463 | D110: 45 | E110: =D110*$E$4 -> 11.25 | F110: =D110-E110 -> 33.75 | G110: XXL | I110: =H110*F110 -> 0 | J110: =I110/1.21 -> 0
A112: Trainingsbroek | B112: FZ9814-410 | C112: Donkerblauw | D112: 45 | E112: =D112*$E$4 -> 11.25 | F112: =D112-E112 -> 33.75 | G112: XS | I112: =H112*F112 -> 0 | J112: =I112/1.21 -> 0
A113: Trainingsbroek | B113: FZ9814-410 | D113: 45 | E113: =D113*$E$4 -> 11.25 | F113: =D113-E113 -> 33.75 | G113: S | I113: =H113*F113 -> 0 | J113: =I113/1.21 -> 0
A114: Trainingsbroek | B114: FZ9814-410 | D114: 45 | E114: =D114*$E$4 -> 11.25 | F114: =D114-E114 -> 33.75 | G114: M | I114: =H114*F114 -> 0 | J114: =I114/1.21 -> 0
...

Sheet Presentatiekleding
A1: =Wedstrijdtenue!A1 -> Bestellijst S.V. Houten
A3: Omschrijving | B3: Art. nummer | C3: Kleur | D3: Prijs | E3: Korting | F3: Stukprijs | G3: Maat | H3: Aantal | I3: Totaalprijs incl. btw | J3: Totaalprijs excl. btw | K3: Nummers | L3: Initialen/Namen | M3: ='Team -en bedrukkingsinformatie'!J2 -> Sponsor 1 | N3: ='Team -en bedrukkingsinformatie'!J3 -> Sponsor 2 | O3: ='Team -en bedrukkingsinformatie'!J4 -> Sponsor 3
D4: Nike | E4: =Wedstrijdtenue!E4 -> 0.25 | F4: Voetbalshop
A5: Presentatiekleding spelers | M5: Hanteer dropdown menu (pijl) hieronder voor het aangeven van de bedrukking locatie. De cijfers corresponderen met het bestand die toegevoegd is op de pagina Toelichtingen.
A8: Polo (junioren) | B8: FZ9763-463 | C8: Blauw | D8: 38 | E8: =D8*$E$4 -> 9.5 | F8: =D8-E8 -> 28.5 | G8: 122 | I8: =H8*F8 -> 0 | J8: =I8/1.21 -> 0
A9: Polo (junioren) | B9: FZ9763-463 | D9: 38 | E9: =D9*$E$4 -> 9.5 | F9: =D9-E9 -> 28.5 | G9: 128 | I9: =H9*F9 -> 0 | J9: =I9/1.21 -> 0
A10: Polo (junioren) | B10: FZ9763-463 | D10: 38 | E10: =D10*$E$4 -> 9.5 | F10: =D10-E10 -> 28.5 | G10: 140 | I10: =H10*F10 -> 0 | J10: =I10/1.21 -> 0
A11: Polo (junioren) | B11: FZ9763-463 | D11: 38 | E11: =D11*$E$4 -> 9.5 | F11: =D11-E11 -> 28.5 | G11: 152 | I11: =H11*F11 -> 0 | J11: =I11/1.21 -> 0
A12: Polo (junioren) | B12: FZ9763-463 | D12: 38 | E12: =D12*$E$4 -> 9.5 | F12: =D12-E12 -> 28.5 | G12: 164 | I12: =H12*F12 -> 0 | J12: =I12/1.21 -> 0
A13: Polo (senioren) | B13: FZ9759-463 | C13: Blauw | D13: 43 | E13: =D13*$E$4 -> 10.75 | F13: =D13-E13 -> 32.25 | G13: XS | I13: =H13*F13 -> 0 | J13: =I13/1.21 -> 0
A14: Polo (senioren) | B14: FZ9759-463 | D14: 43 | E14: =D14*$E$4 -> 10.75 | F14: =D14-E14 -> 32.25 | G14: S | I14: =H14*F14 -> 0 | J14: =I14/1.21 -> 0
A15: Polo (senioren) | B15: FZ9759-463 | D15: 43 | E15: =D15*$E$4 -> 10.75 | F15: =D15-E15 -> 32.25 | G15: M | I15: =H15*F15 -> 0 | J15: =I15/1.21 -> 0
A16: Polo (senioren) | B16: FZ9759-463 | D16: 43 | E16: =D16*$E$4 -> 10.75 | F16: =D16-E16 -> 32.25 | G16: L | I16: =H16*F16 -> 0 | J16: =I16/1.21 -> 0
A17: Polo (senioren) | B17: FZ9759-463 | D17: 43 | E17: =D17*$E$4 -> 10.75 | F17: =D17-E17 -> 32.25 | G17: XL | I17: =H17*F17 -> 0 | J17: =I17/1.21 -> 0
A18: Polo (senioren) | B18: FZ9759-463 | D18: 43 | E18: =D18*$E$4 -> 10.75 | F18: =D18-E18 -> 32.25 | G18: XXL | I18: =H18*F18 -> 0 | J18: =I18/1.21 -> 0
A19: Polo (senioren) | B19: FZ9759-463 | D19: 43 | E19: =D19*$E$4 -> 10.75 | F19: =D19-E19 -> 32.25 | G19: XXXL | I19: =H19*F19 -> 0 | J19: =I19/1.21 -> 0
A21: Polo (vrouwen) | B21: FZ9761-463 | C21: Blauw | D21: 43 | E21: =D21*$E$4 -> 10.75 | F21: =D21-E21 -> 32.25 | G21: XS | I21: =H21*F21 -> 0 | J21: =I21/1.21 -> 0
A22: Polo (vrouwen) | B22: FZ9761-463 | D22: 43 | E22: =D22*$E$4 -> 10.75 | F22: =D22-E22 -> 32.25 | G22: S | I22: =H22*F22 -> 0 | J22: =I22/1.21 -> 0
A23: Polo (vrouwen) | B23: FZ9761-463 | D23: 43 | E23: =D23*$E$4 -> 10.75 | F23: =D23-E23 -> 32.25 | G23: M | I23: =H23*F23 -> 0 | J23: =I23/1.21 -> 0
A24: Polo (vrouwen) | B24: FZ9761-463 | D24: 43 | E24: =D24*$E$4 -> 10.75 | F24: =D24-E24 -> 32.25 | G24: L | I24: =H24*F24 -> 0 | J24: =I24/1.21 -> 0
A25: Polo (vrouwen) | B25: FZ9761-463 | D25: 43 | E25: =D25*$E$4 -> 10.75 | F25: =D25-E25 -> 32.25 | G25: XL | I25: =H25*F25 -> 0 | J25: =I25/1.21 -> 0
A27: Citytee (junioren) | B27: CW6941-451 | C27: Blauw | D27: 32 | E27: =D27*$E$4 -> 8 | F27: =D27-E27 -> 24 | G27: 122 | I27: =H27*F27 -> 0 | J27: =I27/1.21 -> 0
A28: Citytee (junioren) | B28: CW6941-451 | D28: 32 | E28: =D28*$E$4 -> 8 | F28: =D28-E28 -> 24 | G28: 128 | I28: =H28*F28 -> 0 | J28: =I28/1.21 -> 0
A29: Citytee (junioren) | B29: CW6941-451 | D29: 32 | E29: =D29*$E$4 -> 8 | F29: =D29-E29 -> 24 | G29: 140 | I29: =H29*F29 -> 0 | J29: =I29/1.21 -> 0
A30: Citytee (junioren) | B30: CW6941-451 | D30: 32 | E30: =D30*$E$4 -> 8 | F30: =D30-E30 -> 24 | G30: 152 | I30: =H30*F30 -> 0 | J30: =I30/1.21 -> 0
A31: Citytee (junioren) | B31: CW6941-451 | D31: 32 | E31: =D31*$E$4 -> 8 | F31: =D31-E31 -> 24 | G31: 164 | I31: =H31*F31 -> 0 | J31: =I31/1.21 -> 0
A32: Citytee (senioren) | B32: CW6936-451 | D32: 40 | E32: =D32*$E$4 -> 10 | F32: =D32-E32 -> 30 | G32: S | I32: =H32*F32 -> 0 | J32: =I32/1.21 -> 0
A33: Citytee (senioren) | B33: CW6936-451 | D33: 40 | E33: =D33*$E$4 -> 10 | F33: =D33-E33 -> 30 | G33: M | I33: =H33*F33 -> 0 | J33: =I33/1.21 -> 0
A34: Citytee (senioren) | B34: CW6936-451 | D34: 40 | E34: =D34*$E$4 -> 10 | F34: =D34-E34 -> 30 | G34: L | I34: =H34*F34 -> 0 | J34: =I34/1.21 -> 0
A35: Citytee (senioren) | B35: CW6936-451 | D35: 40 | E35: =D35*$E$4 -> 10 | F35: =D35-E35 -> 30 | G35: XL | I35: =H35*F35 -> 0 | J35: =I35/1.21 -> 0
A36: Citytee (senioren) | B36: CW6936-451 | D36: 40 | E36: =D36*$E$4 -> 10 | F36: =D36-E36 -> 30 | G36: XXL | I36: =H36*F36 -> 0 | J36: =I36/1.21 -> 0
A37: Citytee (senioren) | B37: CW6936-451 | D37: 40 | E37: =D37*$E$4 -> 10 | F37: =D37-E37 -> 30 | G37: XXXL | I37: =H37*F37 -> 0 | J37: =I37/1.21 -> 0
A39: Citytee (vrouwen) | B39: CW6967-451 | C39: Blauw | D39: 40 | E39: =D39*$E$4 -> 10 | F39: =D39-E39 -> 30 | G39: XS | I39: =H39*F39 -> 0 | J39: =I39/1.21 -> 0
A40: Citytee (vrouwen) | B40: CW6957-451 | D40: 40 | E40: =D40*$E$4 -> 10 | F40: =D40-E40 -> 30 | G40: S | I40: =H40*F40 -> 0 | J40: =I40/1.21 -> 0
A41: Citytee (vrouwen) | B41: CW6957-451 | D41: 40 | E41: =D41*$E$4 -> 10 | F41: =D41-E41 -> 30 | G41: M | I41: =H41*F41 -> 0 | J41: =I41/1.21 -> 0
A42: Citytee (vrouwen) | B42: CW6957-451 | D42: 40 | E42: =D42*$E$4 -> 10 | F42: =D42-E42 -> 30 | G42: L | I42: =H42*F42 -> 0 | J42: =I42/1.21 -> 0
A43: Citytee (vrouwen) | B43: CW6957-451 | D43: 40 | E43: =D43*$E$4 -> 10 | F43: =D43-E43 -> 30 | G43: XL | I43: =H43*F43 -> 0 | J43: =I43/1.21 -> 0
A45: Hoodie (junioren) | B45: IB1226-410 | C45: Blauw | D45: 55 | E45: =D45*$E$4 -> 13.75 | F45: =D45-E45 -> 41.25 | G45: 122 | I45: =H45*F45 -> 0 | J45: =I45/1.21 -> 0
A46: Hoodie (junioren) | B46: IB1226-410 | D46: 55 | E46: =D46*$E$4 -> 13.75 | F46: =D46-E46 -> 41.25 | G46: 128 | I46: =H46*F46 -> 0 | J46: =I46/1.21 -> 0
A47: Hoodie (junioren) | B47: IB1226-410 | D47: 55 | E47: =D47*$E$4 -> 13.75 | F47: =D47-E47 -> 41.25 | G47: 140 | I47: =H47*F47 -> 0 | J47: =I47/1.21 -> 0
A48: Hoodie (junioren) | B48: IB1226-410 | D48: 55 | E48: =D48*$E$4 -> 13.75 | F48: =D48-E48 -> 41.25 | G48: 152 | I48: =H48*F48 -> 0 | J48: =I48/1.21 -> 0
A49: Hoodie (junioren) | B49: IB1226-410 | D49: 55 | E49: =D49*$E$4 -> 13.75 | F49: =D49-E49 -> 41.25 | G49: 164 | I49: =H49*F49 -> 0 | J49: =I49/1.21 -> 0
A50: Hoodie (senioren) | B50: IB1222-410 | D50: 60 | E50: =D50*$E$4 -> 15 | F50: =D50-E50 -> 45 | G50: S | I50: =H50*F50 -> 0 | J50: =I50/1.21 -> 0
A51: Hoodie (senioren) | B51: IB1222-410 | D51: 60 | E51: =D51*$E$4 -> 15 | F51: =D51-E51 -> 45 | G51: M | I51: =H51*F51 -> 0 | J51: =I51/1.21 -> 0
A52: Hoodie (senioren) | B52: IB1222-410 | D52: 60 | E52: =D52*$E$4 -> 15 | F52: =D52-E52 -> 45 | G52: L | I52: =H52*F52 -> 0 | J52: =I52/1.21 -> 0
A53: Hoodie (senioren) | B53: IB1222-410 | D53: 60 | E53: =D53*$E$4 -> 15 | F53: =D53-E53 -> 45 | G53: XL | I53: =H53*F53 -> 0 | J53: =I53/1.21 -> 0
A54: Hoodie (senioren) | B54: IB1222-410 | D54: 60 | E54: =D54*$E$4 -> 15 | F54: =D54-E54 -> 45 | G54: XXL | I54: =H54*F54 -> 0 | J54: =I54/1.21 -> 0
A55: Hoodie (senioren) | B55: IB1222-410 | D55: 60 | E55: =D55*$E$4 -> 15 | F55: =D55-E55 -> 45 | G55: XXXL | I55: =H55*F55 -> 0 | J55: =I55/1.21 -> 0
A57: Hoodie (vrouwen) | B57: IB1224-410 | C57: Blauw | D57: 60 | E57: =D57*$E$4 -> 15 | F57: =D57-E57 -> 45 | G57: XS | I57: =H57*F57 -> 0 | J57: =I57/1.21 -> 0
A58: Hoodie (vrouwen) | B58: IB1224-410 | D58: 60 | E58: =D58*$E$4 -> 15 | F58: =D58-E58 -> 45 | G58: S | I58: =H58*F58 -> 0 | J58: =I58/1.21 -> 0
A59: Hoodie (vrouwen) | B59: IB1224-410 | D59: 60 | E59: =D59*$E$4 -> 15 | F59: =D59-E59 -> 45 | G59: M | I59: =H59*F59 -> 0 | J59: =I59/1.21 -> 0
A60: Hoodie (vrouwen) | B60: IB1224-410 | D60: 60 | E60: =D60*$E$4 -> 15 | F60: =D60-E60 -> 45 | G60: L | I60: =H60*F60 -> 0 | J60: =I60/1.21 -> 0
A61: Hoodie (vrouwen) | B61: IB1224-410 | D61: 60 | E61: =D61*$E$4 -> 15 | F61: =D61-E61 -> 45 | G61: XL | I61: =H61*F61 -> 0 | J61: =I61/1.21 -> 0
A63: Fleecebroek (junioren) | B63: IB1252-410 | C63: Blauw | D63: 45 | E63: =D63*$E$4 -> 11.25 | F63: =D63-E63 -> 33.75 | G63: 122 | I63: =H63*F63 -> 0 | J63: =I63/1.21 -> 0
A64: Fleecebroek (junioren) | B64: IB1252-410 | D64: 45 | E64: =D64*$E$4 -> 11.25 | F64: =D64-E64 -> 33.75 | G64: 128 | I64: =H64*F64 -> 0 | J64: =I64/1.21 -> 0
A65: Fleecebroek (junioren) | B65: IB1252-410 | D65: 45 | E65: =D65*$E$4 -> 11.25 | F65: =D65-E65 -> 33.75 | G65: 140 | I65: =H65*F65 -> 0 | J65: =I65/1.21 -> 0
A66: Fleecebroek (junioren) | B66: IB1252-410 | D66: 45 | E66: =D66*$E$4 -> 11.25 | F66: =D66-E66 -> 33.75 | G66: 152 | I66: =H66*F66 -> 0 | J66: =I66/1.21 -> 0
A67: Fleecebroek (junioren) | B67: IB1252-410 | D67: 45 | E67: =D67*$E$4 -> 11.25 | F67: =D67-E67 -> 33.75 | G67: 164 | I67: =H67*F67 -> 0 | J67: =I67/1.21 -> 0
A68: Fleecebroek (senioren) | B68: IB1248-410 | D68: 50 | E68: =D68*$E$4 -> 12.5 | F68: =D68-E68 -> 37.5 | G68: S | I68: =H68*F68 -> 0 | J68: =I68/1.21 -> 0
A69: Fleecebroek (senioren) | B69: IB1248-410 | D69: 50 | E69: =D69*$E$4 -> 12.5 | F69: =D69-E69 -> 37.5 | G69: M | I69: =H69*F69 -> 0 | J69: =I69/1.21 -> 0
A70: Fleecebroek (senioren) | B70: IB1248-410 | D70: 50 | E70: =D70*$E$4 -> 12.5 | F70: =D70-E70 -> 37.5 | G70: L | I70: =H70*F70 -> 0 | J70: =I70/1.21 -> 0
A71: Fleecebroek (senioren) | B71: IB1248-410 | D71: 50 | E71: =D71*$E$4 -> 12.5 | F71: =D71-E71 -> 37.5 | G71: XL | I71: =H71*F71 -> 0 | J71: =I71/1.21 -> 0
A72: Fleecebroek (senioren) | B72: IB1248-410 | D72: 50 | E72: =D72*$E$4 -> 12.5 | F72: =D72-E72 -> 37.5 | G72: XXL | I72: =H72*F72 -> 0 | J72: =I72/1.21 -> 0
A74: Fleecebroek (vrouwen) | B74: IB1250-410 | C74: Blauw | D74: 50 | E74: =D74*$E$4 -> 12.5 | F74: =D74-E74 -> 37.5 | G74: XS | I74: =H74*F74 -> 0 | J74: =I74/1.21 -> 0
A75: Fleecebroek (vrouwen) | B75: IB1250-410 | D75: 50 | E75: =D75*$E$4 -> 12.5 | F75: =D75-E75 -> 37.5 | G75: S | I75: =H75*F75 -> 0 | J75: =I75/1.21 -> 0
A76: Fleecebroek (vrouwen) | B76: IB1250-410 | D76: 50 | E76: =D76*$E$4 -> 12.5 | F76: =D76-E76 -> 37.5 | G76: M | I76: =H76*F76 -> 0 | J76: =I76/1.21 -> 0
A77: Fleecebroek (vrouwen) | B77: IB1250-410 | D77: 50 | E77: =D77*$E$4 -> 12.5 | F77: =D77-E77 -> 37.5 | G77: L | I77: =H77*F77 -> 0 | J77: =I77/1.21 -> 0
A78: Fleecebroek (vrouwen) | B78: IB1250-410 | D78: 50 | E78: =D78*$E$4 -> 12.5 | F78: =D78-E78 -> 37.5 | G78: XL | I78: =H78*F78 -> 0 | J78: =I78/1.21 -> 0
A80: Fleeceshort (junioren) | B80: IB1242-410 | C80: Blauw | D80: 40 | E80: =D80*$E$4 -> 10 | F80: =D80-E80 -> 30 | G80: 122 | I80: =H80*F80 -> 0 | J80: =I80/1.21 -> 0
A81: Fleeceshort (junioren) | B81: IB1242-410 | D81: 40 | E81: =D81*$E$4 -> 10 | F81: =D81-E81 -> 30 | G81: 128 | I81: =H81*F81 -> 0 | J81: =I81/1.21 -> 0
A82: Fleeceshort (junioren) | B82: IB1242-410 | D82: 40 | E82: =D82*$E$4 -> 10 | F82: =D82-E82 -> 30 | G82: 140 | I82: =H82*F82 -> 0 | J82: =I82/1.21 -> 0
A83: Fleeceshort (junioren) | B83: IB1242-410 | D83: 40 | E83: =D83*$E$4 -> 10 | F83: =D83-E83 -> 30 | G83: 152 | I83: =H83*F83 -> 0 | J83: =I83/1.21 -> 0
A84: Fleeceshort (junioren) | B84: IB1242-410 | D84: 40 | E84: =D84*$E$4 -> 10 | F84: =D84-E84 -> 30 | G84: 164 | I84: =H84*F84 -> 0 | J84: =I84/1.21 -> 0
A85: Fleeceshort (senioren) | B85: IB1238-410 | D85: 45 | E85: =D85*$E$4 -> 11.25 | F85: =D85-E85 -> 33.75 | G85: S | I85: =H85*F85 -> 0 | J85: =I85/1.21 -> 0
A86: Fleeceshort (senioren) | B86: IB1238-410 | D86: 45 | E86: =D86*$E$4 -> 11.25 | F86: =D86-E86 -> 33.75 | G86: M | I86: =H86*F86 -> 0 | J86: =I86/1.21 -> 0
A87: Fleeceshort (senioren) | B87: IB1238-410 | D87: 45 | E87: =D87*$E$4 -> 11.25 | F87: =D87-E87 -> 33.75 | G87: L | I87: =H87*F87 -> 0 | J87: =I87/1.21 -> 0
A88: Fleeceshort (senioren) | B88: IB1238-410 | D88: 45 | E88: =D88*$E$4 -> 11.25 | F88: =D88-E88 -> 33.75 | G88: XL | I88: =H88*F88 -> 0 | J88: =I88/1.21 -> 0
A89: Fleeceshort (senioren) | B89: IB1238-410 | D89: 45 | E89: =D89*$E$4 -> 11.25 | F89: =D89-E89 -> 33.75 | G89: XXL | I89: =H89*F89 -> 0 | J89: =I89/1.21 -> 0
A91: Fleeceshort (vrouwen) | B91: IB1243-410 | C91: Blauw | D91: 45 | E91: =D91*$E$4 -> 11.25 | F91: =D91-E91 -> 33.75 | G91: XS | I91: =H91*F91 -> 0 | J91: =I91/1.21 -> 0
A92: Fleeceshort (vrouwen) | B92: IB1243-410 | D92: 45 | E92: =D92*$E$4 -> 11.25 | F92: =D92-E92 -> 33.75 | G92: S | I92: =H92*F92 -> 0 | J92: =I92/1.21 -> 0
A93: Fleeceshort (vrouwen) | B93: IB1243-410 | D93: 45 | E93: =D93*$E$4 -> 11.25 | F93: =D93-E93 -> 33.75 | G93: M | I93: =H93*F93 -> 0 | J93: =I93/1.21 -> 0
A94: Fleeceshort (vrouwen) | B94: IB1243-410 | D94: 45 | E94: =D94*$E$4 -> 11.25 | F94: =D94-E94 -> 33.75 | G94: L | I94: =H94*F94 -> 0 | J94: =I94/1.21 -> 0
A95: Fleeceshort (vrouwen) | B95: IB1243-410 | D95: 45 | E95: =D95*$E$4 -> 11.25 | F95: =D95-E95 -> 33.75 | G95: XL | I95: =H95*F95 -> 0 | J95: =I95/1.21 -> 0
A97: Fall jacket (junioren) | B97: HM7274-410 | C97: Donkerblauw | D97: 100 | E97: =D97*$E$4 -> 25 | F97: =D97-E97 -> 75 | G97: 122 | I97: =H97*F97 -> 0 | J97: =I97/1.21 -> 0
A98: Fall jacket (junioren) | B98: HM7274-410 | D98: 100 | E98: =D98*$E$4 -> 25 | F98: =D98-E98 -> 75 | G98: 128 | I98: =H98*F98 -> 0 | J98: =I98/1.21 -> 0
A99: Fall jacket (junioren) | B99: HM7274-410 | D99: 100 | E99: =D99*$E$4 -> 25 | F99: =D99-E99 -> 75 | G99: 140 | I99: =H99*F99 -> 0 | J99: =I99/1.21 -> 0
A100: Fall jacket (junioren) | B100: HM7274-410 | D100: 100 | E100: =D100*$E$4 -> 25 | F100: =D100-E100 -> 75 | G100: 152 | I100: =H100*F100 -> 0 | J100: =I100/1.21 -> 0
A101: Fall jacket (junioren) | B101: HM7274-410 | D101: 100 | E101: =D101*$E$4 -> 25 | F101: =D101-E101 -> 75 | G101: 164 | I101: =H101*F101 -> 0 | J101: =I101/1.21 -> 0
A102: Fall jacket (senioren) | B102: HM7270-410 | C102: Donkerblauw | D102: 110 | E102: =D102*$E$4 -> 27.5 | F102: =D102-E102 -> 82.5 | G102: S | I102: =H102*F102 -> 0 | J102: =I102/1.21 -> 0
A103: Fall jacket (senioren) | B103: HM7270-410 | D103: 110 | E103: =D103*$E$4 -> 27.5 | F103: =D103-E103 -> 82.5 | G103: M | I103: =H103*F103 -> 0 | J103: =I103/1.21 -> 0
A104: Fall jacket (senioren) | B104: HM7270-410 | D104: 110 | E104: =D104*$E$4 -> 27.5 | F104: =D104-E104 -> 82.5 | G104: L | I104: =H104*F104 -> 0 | J104: =I104/1.21 -> 0
A105: Fall jacket (senioren) | B105: HM7270-410 | D105: 110 | E105: =D105*$E$4 -> 27.5 | F105: =D105-E105 -> 82.5 | G105: XL | I105: =H105*F105 -> 0 | J105: =I105/1.21 -> 0
A106: Fall jacket (senioren) | B106: HM7270-410 | D106: 110 | E106: =D106*$E$4 -> 27.5 | F106: =D106-E106 -> 82.5 | G106: XXL | I106: =H106*F106 -> 0 | J106: =I106/1.21 -> 0
A108: Winterjas (junioren) | B108: HM7282-410 | C108: Donkerblauw | D108: 120 | E108: =D108*$E$4 -> 30 | F108: =D108-E108 -> 90 | G108: 122 | I108: =H108*F108 -> 0 | J108: =I108/1.21 -> 0
A109: Winterjas (junioren) | B109: HM7282-410 | D109: 120 | E109: =D109*$E$4 -> 30 | F109: =D109-E109 -> 90 | G109: 128 | I109: =H109*F109 -> 0 | J109: =I109/1.21 -> 0
A110: Winterjas (junioren) | B110: HM7282-410 | D110: 120 | E110: =D110*$E$4 -> 30 | F110: =D110-E110 -> 90 | G110: 140 | I110: =H110*F110 -> 0 | J110: =I110/1.21 -> 0
A111: Winterjas (junioren) | B111: HM7282-410 | D111: 120 | E111: =D111*$E$4 -> 30 | F111: =D111-E111 -> 90 | G111: 152 | I111: =H111*F111 -> 0 | J111: =I111/1.21 -> 0
A112: Winterjas (junioren) | B112: HM7282-410 | D112: 120 | E112: =D112*$E$4 -> 30 | F112: =D112-E112 -> 90 | G112: 164 | I112: =H112*F112 -> 0 | J112: =I112/1.21 -> 0
A113: Winterjas (senioren) | B113: HM7278-410 | C113: Donkerblauw | D113: 130 | E113: =D113*$E$4 -> 32.5 | F113: =D113-E113 -> 97.5 | G113: S | I113: =H113*F113 -> 0 | J113: =I113/1.21 -> 0
A114: Winterjas (senioren) | B114: HM7278-410 | D114: 130 | E114: =D114*$E$4 -> 32.5 | F114: =D114-E114 -> 97.5 | G114: M | I114: =H114*F114 -> 0 | J114: =I114/1.21 -> 0
...

Sheet Hesjes & Tassen
A1: =Wedstrijdtenue!A1 -> Bestellijst S.V. Houten
A3: Omschrijving | B3: Art. nummer | C3: Kleur | D3: Prijs | E3: Korting | F3: Stukprijs | G3: Maat | H3: Aantal | I3: Totaalprijs incl. btw | J3: Totaalprijs excl. btw | K3: Nummers | L3: Initialen/Namen | M3: ='Team -en bedrukkingsinformatie'!J2 -> Sponsor 1 | N3: ='Team -en bedrukkingsinformatie'!J3 -> Sponsor 2 | O3: ='Team -en bedrukkingsinformatie'!J4 -> Sponsor 3
D4: Nike | E4: =Wedstrijdtenue!E4 -> 0.25 | F4: Voetbalshop
A5: Hesjes | M5: Hanteer dropdown menu (pijl) hieronder voor het aangeven van de bedrukking locatie. De cijfers corresponderen met het bestand die toegevoegd is op de pagina Toelichtingen.
A8: Hesjes (unisex) | B8: HV8429-100 | C8: Wit | D8: 10 | E8: =D8*$E$4 -> 2.5 | F8: =D8-E8 -> 7.5 | G8: S | I8: =H8*F8 -> 0 | J8: =I8/1.21 -> 0
A9: Hesjes (unisex) | B9: HV8429-100 | D9: 10 | E9: =D9*$E$4 -> 2.5 | F9: =D9-E9 -> 7.5 | G9: L | I9: =H9*F9 -> 0 | J9: =I9/1.21 -> 0
A10: Hesjes (unisex) | B10: HV8429-100 | D10: 10 | E10: =D10*$E$4 -> 2.5 | F10: =D10-E10 -> 7.5 | G10: XXL | I10: =H10*F10 -> 0 | J10: =I10/1.21 -> 0
A12: Hesjes (unisex) | B12: HV8429-313 | C12: Groen | D12: 10 | E12: =D12*$E$4 -> 2.5 | F12: =D12-E12 -> 7.5 | G12: S | I12: =H12*F12 -> 0 | J12: =I12/1.21 -> 0
A13: Hesjes (unisex) | B13: HV8429-313 | D13: 10 | E13: =D13*$E$4 -> 2.5 | F13: =D13-E13 -> 7.5 | G13: L | I13: =H13*F13 -> 0 | J13: =I13/1.21 -> 0
A14: Hesjes (unisex) | B14: HV8429-313 | D14: 10 | E14: =D14*$E$4 -> 2.5 | F14: =D14-E14 -> 7.5 | G14: XXL | I14: =H14*F14 -> 0 | J14: =I14/1.21 -> 0
A16: Hesjes (unisex) | B16: HV8429-406 | C16: Blauw | D16: 10 | E16: =D16*$E$4 -> 2.5 | F16: =D16-E16 -> 7.5 | G16: S | I16: =H16*F16 -> 0 | J16: =I16/1.21 -> 0
A17: Hesjes (unisex) | B17: HV8429-406 | D17: 10 | E17: =D17*$E$4 -> 2.5 | F17: =D17-E17 -> 7.5 | G17: L | I17: =H17*F17 -> 0 | J17: =I17/1.21 -> 0
A18: Hesjes (unisex) | B18: HV8429-406 | D18: 10 | E18: =D18*$E$4 -> 2.5 | F18: =D18-E18 -> 7.5 | G18: XXL | I18: =H18*F18 -> 0 | J18: =I18/1.21 -> 0
A20: Hesjes (unisex) | B20: HV8429-616 | C20: Roze | D20: 10 | E20: =D20*$E$4 -> 2.5 | F20: =D20-E20 -> 7.5 | G20: S | I20: =H20*F20 -> 0 | J20: =I20/1.21 -> 0
A21: Hesjes (unisex) | B21: HV8429-616 | D21: 10 | E21: =D21*$E$4 -> 2.5 | F21: =D21-E21 -> 7.5 | G21: L | I21: =H21*F21 -> 0 | J21: =I21/1.21 -> 0
A22: Hesjes (unisex) | B22: HV8429-616 | D22: 10 | E22: =D22*$E$4 -> 2.5 | F22: =D22-E22 -> 7.5 | G22: XXL | I22: =H22*F22 -> 0 | J22: =I22/1.21 -> 0
A24: Hesjes (unisex) | B24: HV8429-702 | C24: Geel | D24: 10 | E24: =D24*$E$4 -> 2.5 | F24: =D24-E24 -> 7.5 | G24: S | I24: =H24*F24 -> 0 | J24: =I24/1.21 -> 0
A25: Hesjes (unisex) | B25: HV8429-702 | D25: 10 | E25: =D25*$E$4 -> 2.5 | F25: =D25-E25 -> 7.5 | G25: L | I25: =H25*F25 -> 0 | J25: =I25/1.21 -> 0
A26: Hesjes (unisex) | B26: HV8429-702 | D26: 10 | E26: =D26*$E$4 -> 2.5 | F26: =D26-E26 -> 7.5 | G26: XXL | I26: =H26*F26 -> 0 | J26: =I26/1.21 -> 0
A28: Tassen
A30: Waterzak | B30: 9025.010 | C30: Zwart | D30: 15 | E30: =D30*$E$4 -> 3.75 | F30: =D30-E30 -> 11.25 | G30: STUKS | I30: =H30*F30 -> 0 | J30: =I30/1.21 -> 0
A31: Ballenzak | B31: BA5200-010 | C31: Zwart | D31: 25 | E31: =D31*$E$4 -> 6.25 | F31: =D31-E31 -> 18.75 | G31: STUKS | I31: =H31*F31 -> 0 | J31: =I31/1.21 -> 0
A32: Voetbaltas Large | B32: CU8087-410 | C32: Donkerblauw | D32: 55 | E32: =D32*$E$4 -> 13.75 | F32: =D32-E32 -> 41.25 | G32: STUKS | I32: =H32*F32 -> 0 | J32: =I32/1.21 -> 0
A33: Voetbaltas Medium | B33: CU8096-410 | C33: Donkerblauw | D33: 48 | E33: =D33*$E$4 -> 12 | F33: =D33-E33 -> 36 | G33: STUKS | I33: =H33*F33 -> 0 | J33: =I33/1.21 -> 0
A34: Rollerbag | B34: BA5199-010 | C34: Zwart | D34: 65 | E34: =D34*$E$4 -> 16.25 | F34: =D34-E34 -> 48.75 | G34: STUKS | I34: =H34*F34 -> 0 | J34: =I34/1.21 -> 0
A35: Rugzak spelers | B35: DV0761-410 | C35: Donkerblauw | D35: 43 | E35: =D35*$E$4 -> 10.75 | F35: =D35-E35 -> 32.25 | G35: STUKS | I35: =H35*F35 -> 0 | J35: =I35/1.21 -> 0
A36: Rugzak trainers | B36: DV0761-011 | C36: Zwart | D36: 43 | E36: =D36*$E$4 -> 10.75 | F36: =D36-E36 -> 32.25 | G36: STUKS | I36: =H36*F36 -> 0 | J36: =I36/1.21 -> 0
A38: Accessoires
A40: Handschoenen kids | B40: HF0546-011 | C40: Zwart | D40: 20 | E40: =D40*$E$4 -> 5 | F40: =D40-E40 -> 15 | G40: S | I40: =H40*F40 -> 0 | J40: =I40/1.21 -> 0
A41: Handschoenen kids | D41: 20 | E41: =D41*$E$4 -> 5 | F41: =D41-E41 -> 15 | G41: M | I41: =H41*F41 -> 0 | J41: =I41/1.21 -> 0
A42: Handschoenen kids | D42: 20 | E42: =D42*$E$4 -> 5 | F42: =D42-E42 -> 15 | G42: L | I42: =H42*F42 -> 0 | J42: =I42/1.21 -> 0
A43: Handschoenen senior | B43: HF0547-011 | C43: Zwart | D43: 25 | E43: =D43*$E$4 -> 6.25 | F43: =D43-E43 -> 18.75 | G43: S | I43: =H43*F43 -> 0 | J43: =I43/1.21 -> 0
A44: Handschoenen senior | D44: 25 | E44: =D44*$E$4 -> 6.25 | F44: =D44-E44 -> 18.75 | G44: M | I44: =H44*F44 -> 0 | J44: =I44/1.21 -> 0
A45: Handschoenen senior | D45: 25 | E45: =D45*$E$4 -> 6.25 | F45: =D45-E45 -> 18.75 | G45: L | I45: =H45*F45 -> 0 | J45: =I45/1.21 -> 0
A46: Handschoenen senior | D46: 25 | E46: =D46*$E$4 -> 6.25 | F46: =D46-E46 -> 18.75 | G46: XL | I46: =H46*F46 -> 0 | J46: =I46/1.21 -> 0
A47: Muts spelers | B47: FQ8292-451 | C47: Unisex | D47: 25 | E47: =D47*$E$4 -> 6.25 | F47: =D47-E47 -> 18.75 | G47: STUKS | I47: =H47*F47 -> 0 | J47: =I47/1.21 -> 0
A48: Muts trainers | B48: FQ8292-010 | C48: Unisex | D48: 25 | E48: =D48*$E$4 -> 6.25 | F48: =D48-E48 -> 18.75 | G48: STUKS | I48: =H48*F48 -> 0 | J48: =I48/1.21 -> 0
H50: SUBTOTAAL | I50: =SUM(I8:I36) -> 0 | J50: =SUM(J5:J36) -> 0

Sheet Totaal
A1: Bestellijst S.V. Houten
A3: Omschrijving | B3: Art. nummer | C3: Kleur | D3: Prijs | E3: Korting | F3: Stukprijs | G3: Maat | H3: Aantal | I3: Totaalprijs incl. btw | J3: Totaalprijs excl. btw | K3: Nummers | L3: Initialen/Namen | M3: ='Team -en bedrukkingsinformatie'!J2 -> Sponsor 1 | N3: ='Team -en bedrukkingsinformatie'!J3 -> Sponsor 2 | O3: ='Team -en bedrukkingsinformatie'!J4 -> Sponsor 3
